BEGIN:VCALENDAR
VERSION:2.0
PRODID:-//ChamberMaster//Event Calendar 2.0//EN
METHOD:PUBLISH
X-PUBLISHED-TTL:P3D
REFRESH-INTERVAL:P3D
CALSCALE:GREGORIAN
BEGIN:VEVENT
DTSTART:20180505T180000Z
DTEND:20180505T200000Z
X-MICROSOFT-CDO-ALLDAYEVENT:FALSE
SUMMARY:Children’s Theater: The Reluctant Dragon
DESCRIPTION:Playtime Productions of Madison returns to the River Arts Center to present The Reluctant Dragon. This play for children by children is sponsored by the Sauk City Library at no cost to the community. Tickets are not required.
X-ALT-DESC;FMTTYPE=text/html:Playtime Productions of Madison returns to the River Arts Center to present <em>The Reluctant Dragon</em>. This play for children by children is sponsored by the Sauk City Library at no cost to the community. Tickets are not required.
LOCATION:River Arts Center 105 9th St. Prairie du Sac\, WI
UID:e.1184.17759
SEQUENCE:3
DTSTAMP:20260424T112600Z
URL:http://members.saukprairie.com/events/details/children-s-theater-the-reluctant-dragon-17759
END:VEVENT

END:VCALENDAR
