BEGIN:VCALENDAR
VERSION:2.0
PRODID:-//ChamberMaster//Event Calendar 2.0//EN
METHOD:PUBLISH
X-PUBLISHED-TTL:P3D
REFRESH-INTERVAL:P3D
CALSCALE:GREGORIAN
BEGIN:VEVENT
DTSTART:20171008T060000Z
DTEND:20171008T120000Z
X-MICROSOFT-CDO-ALLDAYEVENT:FALSE
SUMMARY:Chili Cook Off\, Blues Band\, Packer Tailgate Party
DESCRIPTION:Chili Cook Off\, Blues Band\, Packer Tailgate Party. The Hoot Owl's will play at 1pm. Come sample or compete! Entry forms at our counter. The contest is a cook at home and bring to the event. No onsite cooking. Chili tasting at 1 pm game starts at 3:30. Prizes at halftime. $5 chili tasting. People's choice and Judges awards given to the best. We will have sides and heaters for the tents if the weather gets cool. $2 beer all day\, bags boards available. Come join us and eat some great chili and cheer on the Pack!
X-ALT-DESC;FMTTYPE=text/html:Chili Cook Off\, Blues Band\, Packer Tailgate Party. The Hoot Owl&#39\;s will play at 1pm. Come sample or compete! Entry forms at our counter. The contest is a cook at home and bring to the event. No onsite cooking. Chili tasting at 1 pm game starts at 3:30. Prizes at halftime. $5 chili tasting. People&#39\;s choice and Judges awards given to the best. We will have sides and heaters for the tents if the weather gets cool. $2 beer all day\, bags boards available. Come join us and eat some great chili and cheer on the Pack!
LOCATION:Wood BBQ 739 Phillips Blvd Sauk City\, Wi 53583
UID:e.1184.12946
SEQUENCE:3
DTSTAMP:20260424T222219Z
URL:http://members.saukprairie.com/events/details/chili-cook-off-blues-band-packer-tailgate-party-12946
END:VEVENT

END:VCALENDAR
