BEGIN:VCALENDAR
VERSION:2.0
PRODID:-//ChamberMaster//Event Calendar 2.0//EN
METHOD:PUBLISH
X-PUBLISHED-TTL:P3D
REFRESH-INTERVAL:P3D
CALSCALE:GREGORIAN
BEGIN:VEVENT
DTSTART:20161030T160000Z
DTEND:20161031T020000Z
X-MICROSOFT-CDO-ALLDAYEVENT:FALSE
SUMMARY:Chili CookOff/ Packer Tailgate Party
DESCRIPTION:Chili CookOff/ Packer Tailgate Party. Come sample or compete! Entry forms at our front conter. The contest is a cook at home and bring. No onsite cooking. Chili tasting starts at 11am\, game starts at 12 noon. Prizes at halftime\, $5 chili sampling/ peoples choice and panel of judges vote\, $2 beer\, $1 wings. We will have sides for the tent (to avoid TV glare and heaters if needed). Judging will be after the game. Come cheer on the Pack\, eat some great chili/ bbq!
X-ALT-DESC;FMTTYPE=text/html:<span style="color: rgb(75\, 79\, 86)\; font-family: helvetica\, arial\, sans-serif\; font-size: 14px\;">Chili CookOff/ Packer Tailgate Party. Come sample or compete! Entry forms at our front conter. The contest is a cook at home and bring. No onsite cooking. Chili tasting starts at 11am\, game starts at 12 noon. Prizes at halftime\, $5 chili sampling/ peoples choice and panel of judges vote\, $2 beer\, $1 wings. We will have sides for the tent (to avoid TV glare and heaters if needed). Judging will be after the game. Come cheer on the Pack\, eat some great chili/ bbq!</span>
LOCATION:Wood BBQ 739 Phillips Blvd.\, Sauk City\, WI 53583
UID:e.1184.9407
SEQUENCE:3
DTSTAMP:20260425T192043Z
URL:http://members.saukprairie.com/events/details/chili-cookoff-packer-tailgate-party-9407
END:VEVENT

END:VCALENDAR
