BEGIN:VCALENDAR
VERSION:2.0
PRODID:-//ChamberMaster//Event Calendar 2.0//EN
METHOD:PUBLISH
X-PUBLISHED-TTL:P3D
REFRESH-INTERVAL:P3D
CALSCALE:GREGORIAN
BEGIN:VEVENT
DTSTART:20171012T000000Z
DTEND:20171012T010000Z
X-MICROSOFT-CDO-ALLDAYEVENT:FALSE
SUMMARY:Chloe Ellefson Mysteries: the Stories Behind the Stories
DESCRIPTION:Meet bestselling writer Kathleen Ernst\, author of the award-winning Chloe Ellefson Historic Sites mysteries. This Wisconsin-based series is popular with adults and mature teens who enjoy traditional mysteries (i.e.\, without explicit sex\, violence\, or gore). Kathleen's lively\, richly-illustrated program will take readers 'behind the scenes' to reveal the people\, places\, and the past that inspired her to write the now eight Chloe books (#9 comes out next year).\n\nKathleen will also talk about how her years at Old World Wisconsin influenced the character of museum curator (and reluctant sleuth) Chloe Ellefson\, how her research into police work helped shape Chloe's love interest\, officer Roelke McKenna\, and how she researches and writes the Chloe mysteries. Afterwards Kathleen will answer questions\, give away door prizes\, and sign her books (copies of which will be available for purchase). This hour-long program is free and open to the public. Kathleen will also be at the library presenting her one hour American Girl Fans program for young readers at 4:00 p.m.\n\nThank you to the Friends of the Ruth Culver Community Library for sponsoring this event.
X-ALT-DESC;FMTTYPE=text/html:<p>Meet bestselling writer Kathleen Ernst\, author of the award-winning Chloe Ellefson Historic Sites mysteries. This Wisconsin-based series is popular with adults and mature teens who enjoy traditional mysteries (i.e.\, without explicit sex\, violence\, or gore). Kathleen&#39\;s lively\, richly-illustrated program will take readers &#39\;behind the scenes&#39\; to reveal the people\, places\, and the past that inspired her to write the now eight Chloe books (#9 comes out next year).</p>\n\n<p>Kathleen will also talk about how her years at Old World Wisconsin influenced the character of museum curator (and reluctant sleuth) Chloe Ellefson\, how her research into police work helped shape Chloe&#39\;s love interest\, officer Roelke McKenna\, and how she researches and writes the Chloe mysteries. Afterwards Kathleen will answer questions\, give away door prizes\, and sign her books (copies of which will be available for purchase). This hour-long program is free and open to the public. Kathleen will also be at the library presenting her one hour American Girl Fans program for young readers at 4:00 p.m.</p>\n\n<p>Thank you to the Friends of the Ruth Culver Community Library for sponsoring this event.</p>\n
LOCATION:Ruth Culver Community Library 540 Water Street Prairie du Sac\, WI 53578
UID:e.1184.11644
SEQUENCE:3
DTSTAMP:20260424T222502Z
URL:http://members.saukprairie.com/events/details/chloe-ellefson-mysteries-the-stories-behind-the-stories-11644
END:VEVENT

END:VCALENDAR
