BEGIN:VCALENDAR
VERSION:2.0
PRODID:-//ChamberMaster//Event Calendar 2.0//EN
METHOD:PUBLISH
X-PUBLISHED-TTL:P3D
REFRESH-INTERVAL:P3D
CALSCALE:GREGORIAN
BEGIN:VEVENT
DTSTART:20221215T140000Z
DTEND:20221215T220000Z
X-MICROSOFT-CDO-ALLDAYEVENT:FALSE
SUMMARY:Chocolate Sale Featuring Paul's Chocolates
DESCRIPTION:Paul's Chocolates will be selling his homemade\, preservative-free chocolates in the lobby of the Sauk Prairie Hospital on Thursday\, December 15 from 8 a.m.-4 p.m. A portion of the sales will benefit the Friends of Sauk Prairie Healthcare to support SPH needs. Ordering online is also an option by visiting paulschocolates.com and include "SPH" after your name. Paul will arrange delivery of online orders the week prior to the onsite sale. Paul's Chocolates are produced locally and are an excellent gift idea!
X-ALT-DESC;FMTTYPE=text/html:Paul&rsquo\;s Chocolates will be selling his homemade\, preservative-free chocolates in the lobby of the Sauk Prairie Hospital on Thursday\, December 15 from 8 a.m.-4 p.m. A portion of the sales will benefit the Friends of Sauk Prairie Healthcare to support SPH needs. Ordering online is also an option by visiting paulschocolates.com and include &ldquo\;SPH&rdquo\; after your name. Paul will arrange delivery of online orders the week prior to the onsite sale. Paul&rsquo\;s Chocolates are produced locally and are an excellent gift idea!
LOCATION:Sauk Prairie Hospital
UID:e.1184.28813
SEQUENCE:3
DTSTAMP:20260421T004110Z
URL:http://members.saukprairie.com/events/details/chocolate-sale-featuring-paul-s-chocolates-28813
END:VEVENT

END:VCALENDAR
