BEGIN:VCALENDAR
VERSION:2.0
PRODID:-//ChamberMaster//Event Calendar 2.0//EN
METHOD:PUBLISH
X-PUBLISHED-TTL:P3D
REFRESH-INTERVAL:P3D
CALSCALE:GREGORIAN
BEGIN:VEVENT
DTSTART:20200206T150000Z
DTEND:20200206T213000Z
X-MICROSOFT-CDO-ALLDAYEVENT:FALSE
SUMMARY:Chocolate Sale Fundraiser Featuring Paul's Chocolates
DESCRIPTION:Need a great idea for a Valentine's gift? The Friends of Sauk Prairie Healthcare is hosting a fundraiser chocolate sale featuring Paul's Chocolates at Sauk Prairie Hospital\, 260 26th Street\, Prairie du Sac\, on Thursday\, February 6 from 9:00 am   3:30 pm. Paul's Chocolates are produced locally and contain no preservatives. They make an excellent gift\, and come in a variety of awesome specialty flavors. Samples will be available. Proceeds from the sale benefit the Friends of Sauk Prairie Healthcare.
X-ALT-DESC;FMTTYPE=text/html:Need a great idea for a Valentine&rsquo\;s gift? The Friends of Sauk Prairie Healthcare is hosting a fundraiser chocolate sale featuring Paul&rsquo\;s Chocolates at Sauk Prairie Hospital\, 260 26th Street\, Prairie du Sac\, on Thursday\, February 6 from 9:00 am &ndash\; 3:30 pm. Paul&rsquo\;s Chocolates are produced locally and contain no preservatives. They make an excellent gift\, and come in a variety of awesome specialty flavors. Samples will be available. Proceeds from the sale benefit the Friends of Sauk Prairie Healthcare.
LOCATION:Sauk Prairie Hospital\, 260 26th Street\, Prairie du Sac\, WI
UID:e.1184.24005
SEQUENCE:3
DTSTAMP:20260423T041308Z
URL:http://members.saukprairie.com/events/details/chocolate-sale-fundraiser-featuring-paul-s-chocolates-24005
END:VEVENT

END:VCALENDAR
