BEGIN:VCALENDAR
VERSION:2.0
PRODID:-//ChamberMaster//Event Calendar 2.0//EN
METHOD:PUBLISH
X-PUBLISHED-TTL:P3D
REFRESH-INTERVAL:P3D
CALSCALE:GREGORIAN
BEGIN:VEVENT
DTSTART:20190816T170000Z
DTEND:20190823T170000Z
X-MICROSOFT-CDO-ALLDAYEVENT:FALSE
SUMMARY:Christensen Named Vice President of Finance and Administration for Wisconsin School of Business Center for Professional & Executive Development
DESCRIPTION:FOR IMMEDIATE RELEASE Contact: Kat Shanahan 608-441-7351 Kat.shanahan@uwcped.org www.uwcped.org Christensen Named Vice President of Finance and Administration for Wisconsin School of Business Center for Professional & Executive Development [Madison\, Wis.\, August 2019]   The Wisconsin School of Business Center for Professional & Executive Development (CPED) is pleased to welcome Jeff Christensen as the vice president of finance and administration. Christensen will focus on process improvements\, IT strategy\, and supporting the organization's three-year strategic plan. Before joining the Center for Professional & Executive Development\, Christensen served as the corporate director of fiscal services for Milwaukee-based company\, Phoenix Care Systems. During this time\, Christensen oversaw the development of annual budgets and operating plans while coordinating the request for proposal submission process to governmental agencies. Christensen is a Certified Public Accountant and holds a bachelor's degree in business administration from the University of Wisconsin   Oshkosh. He has been a member of AICPA since 2004. ### About the Wisconsin School of Business Center for Professional and Executive Development The Wisconsin School of Business Center for Professional & Executive Development helps individuals and organizations move forward. More than 70 Professional Development Programs are delivered annually on-site at the Fluno Center by instructors with practical\, real-world experience. The Center for Professional & Executive Development also provides Custom Development Solutions to organizations of all sizes in a variety of industries. For more information on the Center for Professional & Executive Development\, please visit www.uwcped.org.
X-ALT-DESC;FMTTYPE=text/html:FOR IMMEDIATE RELEASE Contact: Kat Shanahan 608-441-7351 Kat.shanahan@uwcped.org www.uwcped.org Christensen Named Vice President of Finance and Administration for Wisconsin School of Business Center for Professional &amp\; Executive Development [Madison\, Wis.\, August 2019] &ndash\; The Wisconsin School of Business Center for Professional &amp\; Executive Development (CPED) is pleased to welcome Jeff Christensen as the vice president of finance and administration. Christensen will focus on process improvements\, IT strategy\, and supporting the organization&rsquo\;s three-year strategic plan. Before joining the Center for Professional &amp\; Executive Development\, Christensen served as the corporate director of fiscal services for Milwaukee-based company\, Phoenix Care Systems. During this time\, Christensen oversaw the development of annual budgets and operating plans while coordinating the request for proposal submission process to governmental agencies. Christensen is a Certified Public Accountant and holds a bachelor&rsquo\;s degree in business administration from the University of Wisconsin &ndash\; Oshkosh. He has been a member of AICPA since 2004. ### About the Wisconsin School of Business Center for Professional and Executive Development The Wisconsin School of Business Center for Professional &amp\; Executive Development helps individuals and organizations move forward. More than 70 Professional Development Programs are delivered annually on-site at the Fluno Center by instructors with practical\, real-world experience. The Center for Professional &amp\; Executive Development also provides Custom Development Solutions to organizations of all sizes in a variety of industries. For more information on the Center for Professional &amp\; Executive Development\, please visit www.uwcped.org.
LOCATION:
UID:e.1184.22755
SEQUENCE:3
DTSTAMP:20260423T141857Z
URL:http://members.saukprairie.com/events/details/christensen-named-vice-president-of-finance-and-administration-for-wisconsin-school-of-business-center-for-professional-executive-development-22755
END:VEVENT

END:VCALENDAR
