BEGIN:VCALENDAR
VERSION:2.0
PRODID:-//ChamberMaster//Event Calendar 2.0//EN
METHOD:PUBLISH
X-PUBLISHED-TTL:P3D
REFRESH-INTERVAL:P3D
CALSCALE:GREGORIAN
BEGIN:VEVENT
DTSTART:20181125T230000Z
DTEND:20181126T010000Z
X-MICROSOFT-CDO-ALLDAYEVENT:FALSE
SUMMARY:Christkindlmarkt Festival
DESCRIPTION:Plain Holiday Vendor and Craft Market (American Legion) from 10:00 AM to 3:00 PM.\n\n\n\nHerald in the Christkindl "Christ Child" Procession: Park on Main Street of Plain\, Wisconsin and travel with Mary\, Joseph and St. Nicholas for a tree lighting. Process up Main Street with candles to St. Luke Catholic Church where the Christkindl Angel will appear. Gather at 4:45 PM.  Procession at 5:00 PM. \n\n\n\nChristmas Hymns and Concert at St. Luke Catholic Church from 5:30 to 6:00 PM. \n\n\n\nGerman Buffet will be served at 6:00 PM at St. Luke's Church basement.  Call 546-2482 to reserve a seat!!
X-ALT-DESC;FMTTYPE=text/html:Plain Holiday Vendor and Craft Market (American Legion) from 10:00 AM to 3:00 PM.<br />\n<br />\nHerald in the Christkindl &quot\;Christ Child&quot\; Procession: Park on Main Street of Plain\, Wisconsin and travel with Mary\, Joseph and St. Nicholas for a tree lighting. Process up Main Street with candles to St. Luke Catholic Church where the Christkindl Angel will appear. Gather at 4:45 PM.&nbsp\; Procession at 5:00 PM.&nbsp\;<br />\n<br />\nChristmas Hymns and Concert at St. Luke Catholic Church from 5:30 to 6:00 PM.&nbsp\;<br />\n<br />\nGerman Buffet will be served at 6:00 PM at St. Luke&#39\;s Church basement.&nbsp\; Call 546-2482 to reserve a seat!!
LOCATION:
UID:e.1184.21469
SEQUENCE:3
DTSTAMP:20260424T034354Z
URL:http://members.saukprairie.com/events/details/christkindlmarkt-festival-11-25-2018-21469
END:VEVENT

END:VCALENDAR
