BEGIN:VCALENDAR
VERSION:2.0
PRODID:-//ChamberMaster//Event Calendar 2.0//EN
METHOD:PUBLISH
X-PUBLISHED-TTL:P3D
REFRESH-INTERVAL:P3D
CALSCALE:GREGORIAN
BEGIN:VEVENT
DTSTART:20191130T170000Z
DTEND:20191202T020000Z
X-MICROSOFT-CDO-ALLDAYEVENT:FALSE
SUMMARY:Christkindlmarkt Festival
DESCRIPTION:2nd Annual "Christkindlmarkt" will take place on November 30 and December 1\, 2019 in Plain\, Wisconsin. Experience the tradition of an Olde World Bavarian Christmas when you shop and dine in downtown Plain! Visit Santa Claus\, Real Reindeer and Elves. Horse Drawn Carriage Rides\, Children's Craft Workshops\, Cookie and Candy Walk\, visit Old Franklin Historical Society and St. Luke Catholic Church.
X-ALT-DESC;FMTTYPE=text/html:<span style="color:rgb(68\, 68\, 68)\; font-family:oxygen\,sans-serif\; font-size:16px">2nd Annual &quot\;Christkindlmarkt&quot\; will take place on November 30 and December 1\, 2019 in Plain\, Wisconsin. Experience the tradition of an Olde World Bavarian Christmas when you shop and dine in downtown Plain! Visit Santa Claus\, Real Reindeer and Elves. Horse Drawn Carriage Rides\, Children&#39\;s Craft Workshops\, Cookie and Candy Walk\, visit Old Franklin Historical Society and St. Luke Catholic Church.</span>
LOCATION:Throughout the Village of Plain. Vendor Fair at River Valley Early Learning Center on Saturday from 11 to 4 and Sunday 11 to 3.
UID:e.1184.23687
SEQUENCE:3
DTSTAMP:20260423T070611Z
URL:http://members.saukprairie.com/events/details/christkindlmarkt-festival-11-30-2019-23687
END:VEVENT

END:VCALENDAR
