BEGIN:VCALENDAR
VERSION:2.0
PRODID:-//ChamberMaster//Event Calendar 2.0//EN
METHOD:PUBLISH
X-PUBLISHED-TTL:P3D
REFRESH-INTERVAL:P3D
CALSCALE:GREGORIAN
BEGIN:VEVENT
DTSTART:20241130T210000Z
DTEND:20241201T010000Z
X-MICROSOFT-CDO-ALLDAYEVENT:FALSE
SUMMARY:Christkindlmarkt Festival
DESCRIPTION:Excitement is growing for this year's "Christkindlmarkt" which is set for November 30th from 3:00 to 7:00 PM in downtown Plain. \n\n\n\nChristmas wares and gifts are sold in the festival-style setting of a Christkindlmarkt\, meaning "Christ Child Market."  It is associated with the celebration of Christmas with the upcoming four weeks of Advent celebrated by way of St. Luke's Church.\n\n\n\nPlease extend an invite to family and friends from outside our community to enjoy the festivities in the Village of Plain.
X-ALT-DESC;FMTTYPE=text/html:Excitement is growing for this year&rsquo\;s &ldquo\;Christkindlmarkt&rdquo\; which is set for November 30th&nbsp\;from 3:00 to 7:00 PM in downtown Plain.&nbsp\;<br />\n<br />\nChristmas wares and gifts are sold in the festival-style setting of a Christkindlmarkt\, meaning &ldquo\;Christ Child Market.&rdquo\;&nbsp\; It is associated with the celebration of Christmas with the upcoming four weeks of Advent celebrated by way of St. Luke&rsquo\;s Church.<br />\n<br />\nPlease extend an invite to family and friends from outside our community to enjoy the festivities in the Village of Plain.<br />\n<br />\n&nbsp\;
LOCATION:Businesses in Downtown Plain\; The Kraemer Library & Community Center\; Old Franklin Township Hall\, The Peoples Community Bank\, Beauty Justice\, Country Crossroads Spa & Salon\, Block 23\, Straka Meats\, Ederer's Do-It Best\, Sam's Place\, Cousin's Bar & Grill\, Ring's Bar.
UID:e.1184.34528
SEQUENCE:3
DTSTAMP:20260419T132134Z
URL:http://members.saukprairie.com/events/details/christkindlmarkt-festival-11-30-2024-34528
END:VEVENT

END:VCALENDAR
