BEGIN:VCALENDAR
VERSION:2.0
PRODID:-//ChamberMaster//Event Calendar 2.0//EN
METHOD:PUBLISH
X-PUBLISHED-TTL:P3D
REFRESH-INTERVAL:P3D
CALSCALE:GREGORIAN
BEGIN:VEVENT
DTSTART:20181124T230000Z
DTEND:20181125T010000Z
X-MICROSOFT-CDO-ALLDAYEVENT:FALSE
SUMMARY:Christkindlmarkt Festival
DESCRIPTION:In Bavaria\, Chrimstas wares and gifts are sold in the festival-style setting of a Christkindlmarkt\, meaning "Christ Child Market."  It is associated with the celebration of Christmas with the upcoming four weeks of Advent. \n\n\n\nShop\, DIne and Be Merry in downtown Plain. Visit Santa Claus\, Real Reindeer and Elves! Horse Drawn Carriage Rides\, Children's Craft Workshops\, Old Franklin Township Historical Society Open House\, Visit St. Luke Catholic Church.
X-ALT-DESC;FMTTYPE=text/html:In Bavaria\, Chrimstas wares and gifts are sold in the festival-style setting of a Christkindlmarkt\, meaning &quot\;Christ Child Market.&quot\;&nbsp\; It is associated with the celebration of Christmas with the upcoming four weeks of Advent.&nbsp\;<br />\n<br />\nShop\, DIne and Be Merry in downtown Plain. Visit Santa Claus\, Real Reindeer and Elves! Horse Drawn Carriage Rides\, Children&#39\;s Craft Workshops\, Old Franklin Township Historical Society Open House\, Visit St. Luke Catholic Church.<br />\n&nbsp\;
LOCATION:Businesses in Downtown Plain\; The Kraemer Library & Community Center\; Old Franklin Township Hall.
UID:e.1184.21468
SEQUENCE:3
DTSTAMP:20260424T034203Z
URL:http://members.saukprairie.com/events/details/christkindlmarkt-festival-21468
END:VEVENT

END:VCALENDAR
