BEGIN:VCALENDAR
VERSION:2.0
PRODID:-//ChamberMaster//Event Calendar 2.0//EN
METHOD:PUBLISH
X-PUBLISHED-TTL:P3D
REFRESH-INTERVAL:P3D
CALSCALE:GREGORIAN
BEGIN:VEVENT
DTSTART:20221218T200000Z
DTEND:20221218T220000Z
X-MICROSOFT-CDO-ALLDAYEVENT:FALSE
SUMMARY:Christmas Bingo: It’s A Ho-Ho-Holy Night!
DESCRIPTION:From the creator of the popular Late Nite Catechism series and more\, Vicki Quade brings the reason for the season with Christmas Bingo! Interspersed between quick bingo games\, she keeps the audience laughing with her deadpan takes on Catholic Christmas traditions. Ms. Quade knows how to work the room. Relying on lessons learned from the nuns (here she plays an ex-nun now in charge of the archdiocese's bingo fundraising department) she uses her ruler for emphasis\, never raises her voice\, and enlists willing participants regardless of religion.
X-ALT-DESC;FMTTYPE=text/html:<span style="color:rgb(0\, 0\, 0)\; font-family:arial\,helvetica\,sans-serif">From the creator of the popular&nbsp\;</span><em>Late Nite Catechism</em><span style="color:rgb(0\, 0\, 0)\; font-family:arial\,helvetica\,sans-serif">&nbsp\;series and more\, Vicki Quade brings the reason for the season with Christmas Bingo! Interspersed between quick bingo games\, she keeps the audience laughing with her deadpan takes on Catholic Christmas traditions. Ms. Quade knows how to work the room. Relying on lessons learned from the nuns (here she plays an ex-nun now in charge of the archdiocese&rsquo\;s bingo fundraising department) she uses her ruler for emphasis\, never raises her voice\, and enlists willing participants regardless of religion.</span>
LOCATION:105 9th St\, Prairie du Sac\, WI 53578
UID:e.1184.28207
SEQUENCE:3
DTSTAMP:20260421T004232Z
URL:http://members.saukprairie.com/events/details/christmas-bingo-it-s-a-ho-ho-holy-night-28207
END:VEVENT

END:VCALENDAR
