BEGIN:VCALENDAR
VERSION:2.0
PRODID:-//ChamberMaster//Event Calendar 2.0//EN
METHOD:PUBLISH
X-PUBLISHED-TTL:P3D
REFRESH-INTERVAL:P3D
CALSCALE:GREGORIAN
BEGIN:VEVENT
DTSTART:20181207T143000Z
DTEND:20181207T223000Z
X-MICROSOFT-CDO-ALLDAYEVENT:FALSE
SUMMARY:Christmas Open House at Bank of Prairie du Sac
DESCRIPTION:Join us in welcoming the holiday season!\n\n\n\n \n\n\n\nEnjoy cookies and punch at our Prairie du Sac and Sauk City locations. Get a free copy of our 2019 Scenes of Sauk Prairie calendar when you stop by.\n\n\n\n \n\n\n\nThe Sauk Prairie Hospital Gift Shop gift sale and Optimist Club Nut & Candy sale will be at the Prairie du Sac location all day.\n\n\n\n \n\n\n\nStop by between 3:00 and 4:30 p.m. to meet Santa Claus and Eaglee Eagle at our Prairie du Sac location!\n\n\n\n \n\n\n\nMember FDIC
X-ALT-DESC;FMTTYPE=text/html:<div>\n<div>\n<div>Join us in welcoming the holiday season!</div>\n</div>\n\n<div>\n<div>&nbsp\;</div>\n</div>\n\n<div>\n<div>Enjoy cookies and punch at our Prairie du Sac and Sauk City locations. Get a free copy of our 2019 Scenes of Sauk Prairie calendar when you stop by.</div>\n</div>\n\n<div>\n<div>&nbsp\;</div>\n</div>\n\n<div>\n<div>The Sauk Prairie Hospital Gift Shop gift sale and Optimist Club Nut &amp\; Candy sale will be at the Prairie du Sac location all day.</div>\n</div>\n\n<div>\n<div>&nbsp\;</div>\n</div>\n\n<div>\n<div>Stop by between 3:00 and 4:30 p.m. to meet Santa Claus and Eaglee Eagle at our Prairie du Sac location!</div>\n</div>\n\n<div>\n<div>&nbsp\;</div>\n</div>\n\n<div>\n<div>Member FDIC</div>\n</div>\n</div>\n
LOCATION:555 Park Avenue\, Prairie du Sac 865 Phillips Boulevard\, Sauk City
UID:e.1184.21482
SEQUENCE:3
DTSTAMP:20260424T005131Z
URL:http://members.saukprairie.com/events/details/christmas-open-house-at-bank-of-prairie-du-sac-21482
END:VEVENT

END:VCALENDAR
