BEGIN:VCALENDAR
VERSION:2.0
PRODID:-//ChamberMaster//Event Calendar 2.0//EN
METHOD:PUBLISH
X-PUBLISHED-TTL:P3D
REFRESH-INTERVAL:P3D
CALSCALE:GREGORIAN
BEGIN:VEVENT
DTSTART;VALUE=DATE:20161125
DTEND;VALUE=DATE:20161226
TRANSP:TRANSPARENT
X-MICROSOFT-CDO-ALLDAYEVENT:TRUE
SUMMARY:Christmas Trees Now On Sale to Support Durward's Glen Retreat
DESCRIPTION:Get your Christmas Tree with Durward's Glen! Pick up your tree at St. Vincent de Paul Society in Portage\, WI.\n\n\n\nAddress: 1311 W. Wisconsin St.\, Portage\, WI 53901 Phone: (608) 742-5513\n\n\n\nThe trees are 7-12 feet tall. All trees are $30\, regardless of size. \n\n\n\nAll funds from tree sales go to Durward's Glen Retreat and Conference Center. Our thanks to our local tree farmers for their donations to Durward's Glen for this fundraiser.\n\n\n\nSale continues until all trees are gone.
X-ALT-DESC;FMTTYPE=text/html:<span style="color: rgb(75\, 79\, 86)\; font-family: helvetica\, arial\, sans-serif\; font-size: 14px\;">Get your Christmas Tree with Durward&#39\;s Glen! Pick up your tree at St. Vincent de Paul Society in Portage\, WI.</span><br />\n<br style="color: rgb(75\, 79\, 86)\; font-family: helvetica\, arial\, sans-serif\; font-size: 14px\;" />\n<span style="color: rgb(75\, 79\, 86)\; font-family: helvetica\, arial\, sans-serif\; font-size: 14px\;">Address: 1311 W. Wisconsin St.\, Portage\, WI 53901 Phone: (608) 742-5513</span><br style="color: rgb(75\, 79\, 86)\; font-family: helvetica\, arial\, sans-serif\; font-size: 14px\;" />\n<br style="color: rgb(75\, 79\, 86)\; font-family: helvetica\, arial\, sans-serif\; font-size: 14px\;" />\n<span style="color: rgb(75\, 79\, 86)\; font-family: helvetica\, arial\, sans-serif\; font-size: 14px\;">The trees are 7-12 feet tall. All trees are $30\, regardless of size.&nbsp\;</span><br style="color: rgb(75\, 79\, 86)\; font-family: helvetica\, arial\, sans-serif\; font-size: 14px\;" />\n<br style="color: rgb(75\, 79\, 86)\; font-family: helvetica\, arial\, sans-serif\; font-size: 14px\;" />\n<span style="color: rgb(75\, 79\, 86)\; font-family: helvetica\, arial\, sans-serif\; font-size: 14px\;">All funds from tree sales go to Durward&#39\;s Glen Retreat and Conference Center. Our thanks to our local tree farmers for their donations to Durward&#39\;s Glen for this fundraiser.</span><br style="color: rgb(75\, 79\, 86)\; font-family: helvetica\, arial\, sans-serif\; font-size: 14px\;" />\n<br style="color: rgb(75\, 79\, 86)\; font-family: helvetica\, arial\, sans-serif\; font-size: 14px\;" />\n<span style="color: rgb(75\, 79\, 86)\; font-family: helvetica\, arial\, sans-serif\; font-size: 14px\;">Sale continues until all trees are gone.</span>
LOCATION:
UID:e.1184.9426
SEQUENCE:3
DTSTAMP:20260425T142245Z
URL:http://members.saukprairie.com/events/details/christmas-trees-now-on-sale-to-support-durward-s-glen-retreat-9426
END:VEVENT

END:VCALENDAR
