BEGIN:VCALENDAR
VERSION:2.0
PRODID:-//ChamberMaster//Event Calendar 2.0//EN
METHOD:PUBLISH
X-PUBLISHED-TTL:P3D
REFRESH-INTERVAL:P3D
CALSCALE:GREGORIAN
BEGIN:VEVENT
DTSTART:20240427T190000Z
DTEND:20240427T210000Z
X-MICROSOFT-CDO-ALLDAYEVENT:FALSE
SUMMARY:Christopher Taylor
DESCRIPTION:Hailed by critics as "frighteningly talented" (The New York Times) and "a great pianist" (The Los Angeles Times)\, Christopher Taylor has distinguished himself throughout his career as an innovative musician with a diverse array of talents and interests. He is known for a passionate advocacy of music written in the past 100 years   Messiaen\, Ligeti\, and Bolcom figure prominently in his performances   but his repertoire spans four centuries and includes the complete Beethoven sonatas\, the Liszt Transcendental Etudes\, Bach's Goldberg Variations\, and a multitude of other familiar masterworks.\n\n\n\nAt his concert at the River Arts Center\, Mr. Taylor will perform works by Sergei Prokofiev and Sergei Rachmaninoff.\n\n\n\nSponsored by: Boardman Clark
X-ALT-DESC;FMTTYPE=text/html:Hailed by critics as &ldquo\;frighteningly talented&rdquo\; (The New York Times) and &ldquo\;a great pianist&rdquo\; (The Los Angeles Times)\, Christopher Taylor has distinguished himself throughout his career as an innovative musician with a diverse array of talents and interests. He is known for a passionate advocacy of music written in the past 100 years &mdash\; Messiaen\, Ligeti\, and Bolcom figure prominently in his performances &mdash\; but his repertoire spans four centuries and includes the complete Beethoven sonatas\, the Liszt Transcendental Etudes\, Bach&rsquo\;s Goldberg Variations\, and a multitude of other familiar masterworks.<br />\n<br />\nAt his concert at the River Arts Center\, Mr. Taylor will perform works by Sergei Prokofiev and Sergei Rachmaninoff.<br />\n<br />\nSponsored by: Boardman Clark
LOCATION:Sauk Prairie River Arts Center
UID:e.1184.32045
SEQUENCE:3
DTSTAMP:20260419T220839Z
URL:http://members.saukprairie.com/events/details/christopher-taylor-32045
END:VEVENT

END:VCALENDAR
