BEGIN:VCALENDAR
VERSION:2.0
PRODID:-//ChamberMaster//Event Calendar 2.0//EN
METHOD:PUBLISH
X-PUBLISHED-TTL:P3D
REFRESH-INTERVAL:P3D
CALSCALE:GREGORIAN
BEGIN:VEVENT
DTSTART:20241124T183000Z
DTEND:20241124T200000Z
X-MICROSOFT-CDO-ALLDAYEVENT:FALSE
SUMMARY:Chunky Blanket Workshop
DESCRIPTION:It's going to get cold outside chicks & we will need a cozy blanket! So lets get together & create our own! Have some laughs & meet some friends!\n\n \n\nWhat to expect: Full instructions & guidance to create your very own hand knitted blanket to snuggle in You will have your choice of up to 3 colors of quality chenille yarn Over 24 colors to choose from Blanket is machine washable Yarn IS NOT purchased from any local retail craft shop!\n\n \n\nTo reserve your spot for this limited spot workshop\, click the ticket link\n\n \n\nAny questions please contact countrysassgifts@gmail.com\n\n\n\nDeadline to sign up is Nov 2 or if class fills up before\, limited seats available Color choices posted with photos
X-ALT-DESC;FMTTYPE=text/html:<div>It&#39\;s going to get cold outside chicks &amp\; we will need a cozy blanket! So lets get together &amp\; create our own! Have some laughs &amp\; meet some friends!<br />\n&nbsp\;</div>\n\n<div>What to expect: Full instructions &amp\; guidance to create your very own hand knitted blanket to snuggle in You will have your choice of up to 3 colors of quality chenille yarn Over 24 colors to choose from Blanket is machine washable Yarn IS NOT purchased from any local retail craft shop!<br />\n&nbsp\;</div>\n\n<div>To reserve your spot for this limited spot workshop\, click the <u><strong><a href="https://checkout.square.site/merchant/MLFY3M2ABVQQF/checkout/YGVSGWFL5LIZ6J547O6GVKG5?fbclid=IwY2xjawGR4JhleHRuA2FlbQIxMAABHVbKLvsAcmoEfXvYNZC2sKJdLJudVelRw8fS6-cSWDCgLDpsSKZiO7zV0A_aem_rWKVj15jrC6QwIUrPM4Kzg">ticket link</a></strong></u><br />\n&nbsp\;</div>\n\n<div>Any questions please contact countrysassgifts@gmail.com<br />\n<br />\nDeadline to sign up is Nov 2 or if class fills up before\, limited seats available Color choices posted with photos</div>\n
LOCATION:Sauk Prairie Area Chamber of Commerce Welcome Center
UID:e.1184.34382
SEQUENCE:3
DTSTAMP:20260419T142914Z
URL:http://members.saukprairie.com/events/details/chunky-blanket-workshop-34382
END:VEVENT

END:VCALENDAR
