BEGIN:VCALENDAR
VERSION:2.0
PRODID:-//ChamberMaster//Event Calendar 2.0//EN
METHOD:PUBLISH
X-PUBLISHED-TTL:P3D
REFRESH-INTERVAL:P3D
CALSCALE:GREGORIAN
BEGIN:VEVENT
DTSTART:20190725T223000Z
DTEND:20190726T000000Z
X-MICROSOFT-CDO-ALLDAYEVENT:FALSE
SUMMARY:Circles Sauk Prairie Intro Sessions
DESCRIPTION:Want to help end poverty in Sauk Prairie?  Join us to learn about 6:8 Circles Sauk Prairie\, and how you can get involved by Building Community to end poverty!
X-ALT-DESC;FMTTYPE=text/html:Want to help end poverty in Sauk Prairie?&nbsp\; Join us to learn about 6:8 Circles Sauk Prairie\, and how you can get involved by Building Community to end poverty!&nbsp\;
LOCATION:Schwarz Insurance 1420 N. Ridge Drive Prairie du Sac\, WI 53578
UID:e.1184.22638
SEQUENCE:3
DTSTAMP:20260423T141601Z
URL:http://members.saukprairie.com/events/details/circles-sauk-prairie-intro-sessions-07-25-2019-22638
END:VEVENT

END:VCALENDAR
