BEGIN:VCALENDAR
VERSION:2.0
PRODID:-//ChamberMaster//Event Calendar 2.0//EN
METHOD:PUBLISH
X-PUBLISHED-TTL:P3D
REFRESH-INTERVAL:P3D
CALSCALE:GREGORIAN
BEGIN:VEVENT
DTSTART:20190909T230000Z
DTEND:20190910T003000Z
X-MICROSOFT-CDO-ALLDAYEVENT:FALSE
SUMMARY:Circles Sauk Prairie Intro Sessions
DESCRIPTION:Want to help end poverty in Sauk Prairie?  Join us to learn about 6:8 Circles Sauk Prairie\, and how you can get involved by Building Community to end poverty! \n\nChildcare will be provided.
X-ALT-DESC;FMTTYPE=text/html:Want to help end poverty in Sauk Prairie?&nbsp\; Join us to learn about 6:8 Circles Sauk Prairie\, and how you can get involved by Building Community to end poverty!&nbsp\;<br />\nChildcare will be provided.
LOCATION:6:8 Inc. 821 Industry Rd Sauk City\, WI 53583
UID:e.1184.22580
SEQUENCE:3
DTSTAMP:20260423T113548Z
URL:http://members.saukprairie.com/events/details/circles-sauk-prairie-intro-sessions-09-09-2019-22580
END:VEVENT

END:VCALENDAR
