BEGIN:VCALENDAR
VERSION:2.0
PRODID:-//ChamberMaster//Event Calendar 2.0//EN
METHOD:PUBLISH
X-PUBLISHED-TTL:P3D
REFRESH-INTERVAL:P3D
CALSCALE:GREGORIAN
BEGIN:VEVENT
DTSTART:20180618T230000Z
DTEND:20180619T010000Z
X-MICROSOFT-CDO-ALLDAYEVENT:FALSE
SUMMARY:Clare Dunn at Vintage Brewing Co. Sauk Prairie
DESCRIPTION:We're taking the 96.3 Star Country Sound Lounge back on the road to Sauk City!\n\n\n\nIt's gonna be a party on the patio at Vintage Brewing Co. Sauk Prairie Monday\, June 18 starting at 6PM.\n\n\n\nJoin us for some country by the river as we welcome new country artist: Clare Dunn to Wisconsin!\n\n\n\nThis is a FREE event and open to all ages!\n\n\n\nHead to 963starcountry.com to get more details!
X-ALT-DESC;FMTTYPE=text/html:<span style="color: rgb(29\, 33\, 41)\; font-family: Helvetica\, Arial\, sans-serif\; font-size: 14px\;">We&rsquo\;re taking the 96.3 Star Country Sound Lounge back on the road to Sauk City!</span><br style="color: rgb(29\, 33\, 41)\; font-family: Helvetica\, Arial\, sans-serif\; font-size: 14px\;" />\n<br style="color: rgb(29\, 33\, 41)\; font-family: Helvetica\, Arial\, sans-serif\; font-size: 14px\;" />\n<span style="color: rgb(29\, 33\, 41)\; font-family: Helvetica\, Arial\, sans-serif\; font-size: 14px\;">It&rsquo\;s gonna be a party on the patio at Vintage Brewing Co. Sauk Prairie Monday\, June 18 starting at 6PM.</span><br style="color: rgb(29\, 33\, 41)\; font-family: Helvetica\, Arial\, sans-serif\; font-size: 14px\;" />\n<br style="color: rgb(29\, 33\, 41)\; font-family: Helvetica\, Arial\, sans-serif\; font-size: 14px\;" />\n<span style="color: rgb(29\, 33\, 41)\; font-family: Helvetica\, Arial\, sans-serif\; font-size: 14px\;">Join us for some country by the river as we welcome new country artist: Clare Dunn to Wisconsin!</span><br style="color: rgb(29\, 33\, 41)\; font-family: Helvetica\, Arial\, sans-serif\; font-size: 14px\;" />\n<br style="color: rgb(29\, 33\, 41)\; font-family: Helvetica\, Arial\, sans-serif\; font-size: 14px\;" />\n<span style="color: rgb(29\, 33\, 41)\; font-family: Helvetica\, Arial\, sans-serif\; font-size: 14px\;">This is a FREE event and open to all ages!</span><br style="color: rgb(29\, 33\, 41)\; font-family: Helvetica\, Arial\, sans-serif\; font-size: 14px\;" />\n<br style="color: rgb(29\, 33\, 41)\; font-family: Helvetica\, Arial\, sans-serif\; font-size: 14px\;" />\n<span style="color: rgb(29\, 33\, 41)\; font-family: Helvetica\, Arial\, sans-serif\; font-size: 14px\;">Head to&nbsp\;</span><a href="https://l.facebook.com/l.php?u=http%3A%2F%2F963starcountry.com%2F&amp\;h=ATPDse4JH6VbKxjXOXzR1oOx9WZUTiMvtezszVc04WpgsdPEuZOIR1yJAeW6JYiQliXDj-d9ffHdf_wTLduELCZ0RVP38kT3OnQJPU-ZeeDcRSKUQWo&amp\;s=1" style="color: rgb(54\, 88\, 153)\; cursor: pointer\; text-decoration-line: none\; font-family: Helvetica\, Arial\, sans-serif\; font-size: 14px\;" target="_blank">963starcountry.com</a><span style="color: rgb(29\, 33\, 41)\; font-family: Helvetica\, Arial\, sans-serif\; font-size: 14px\;">&nbsp\;to get more details!</span>
LOCATION:Vintage Brewing Co. Sauk Prairie 600 Water Street Sauk City\, WI 53583
UID:e.1184.18373
SEQUENCE:3
DTSTAMP:20260424T115325Z
URL:http://members.saukprairie.com/events/details/clare-dunn-at-vintage-brewing-co-sauk-prairie-18373
END:VEVENT

END:VCALENDAR
