BEGIN:VCALENDAR
VERSION:2.0
PRODID:-//ChamberMaster//Event Calendar 2.0//EN
METHOD:PUBLISH
X-PUBLISHED-TTL:P3D
REFRESH-INTERVAL:P3D
CALSCALE:GREGORIAN
BEGIN:VEVENT
DTSTART:20200111T140000Z
DTEND:20200111T150000Z
X-MICROSOFT-CDO-ALLDAYEVENT:FALSE
SUMMARY:"Clean Foods" & Healthy Snacks Nutrition Seminar
DESCRIPTION:Need help getting organized before you go to the grocery store to buy food for the week. This 60 minute seminar will help you learn what healthy fats\, proteins and carbohydrates are. As well as how to put balanced snacks and meals together to help you with your health and wellness goals.
X-ALT-DESC;FMTTYPE=text/html:Need help getting organized before you go to the grocery store to buy food for the week. This 60 minute seminar will help you learn what healthy fats\, proteins and carbohydrates are. As well as how to put balanced snacks and meals together to help you with&nbsp\;your health and wellness goals.
LOCATION:SP Fitness 1111 Dallas Street Suite B Sauk City\, WI 53583
UID:e.1184.23956
SEQUENCE:3
DTSTAMP:20260423T054019Z
URL:http://members.saukprairie.com/events/details/clean-foods-healthy-snacks-nutrition-seminar-23956
END:VEVENT

END:VCALENDAR
