BEGIN:VCALENDAR
VERSION:2.0
PRODID:-//ChamberMaster//Event Calendar 2.0//EN
METHOD:PUBLISH
X-PUBLISHED-TTL:P3D
REFRESH-INTERVAL:P3D
CALSCALE:GREGORIAN
BEGIN:VEVENT
DTSTART;VALUE=DATE:20210915
DTEND;VALUE=DATE:20211003
TRANSP:TRANSPARENT
X-MICROSOFT-CDO-ALLDAYEVENT:TRUE
SUMMARY:Clothing Drive
DESCRIPTION:To our wonderful donors in the greater Sauk Prairie area:\n\nSt. Vincent de Paul in Prairie du Sac will be running a special clothing drive through Saturday\, October 2nd to support the Afghanistan refugees coming to Fort McCoy. We have been in contact with Team Rubicon as to what their biggest needs are at this time and we are asking for your help to fulfill those needs.\n\nWhile new\, culturally appropriate (unbranded) clothing items are preferred\, clean and gently used clothing is also acceptable. At this time they are in need of:\n\n  All girl's clothing size 4-14\n\n  All sizes of shoes for children and adults\n\n  All sizes of jackets\, sweaters\, and sweatshirts\n\n  Men's small or medium size pants\n\n  All sizes of undergarments for children and adults (new items only)\n\n  All sizes of socks for children and adults (new items only)\n\nIf you are able to donate any of these new or gently used items\, we ask that you label your donation in a bag or box marked "To Fort McCoy" and drop it off in the store or at our warehouse located at 815 19th Street in Prairie du Sac. Again\, we will accept donations through Saturday\, October 2nd. The following week\, volunteers from St. Vincent's will then coordinate a time to deliver the items to Fort McCoy. Thank you for your generosity!\n\nIf you have any questions\, please contact Jarrod at (608) 643-8905 ext. 12.
X-ALT-DESC;FMTTYPE=text/html:<div class="kvgmc6g5 cxmmr5t8 oygrvhab hcukyx3x c1et5uql" style="overflow-wrap: break-word\; margin: 0px\; font-family: &quot\;Segoe UI Historic&quot\;\, &quot\;Segoe UI&quot\;\, Helvetica\, Arial\, sans-serif\; color: rgb(5\, 5\, 5)\; font-size: 15px\;">To our wonderful donors in the greater Sauk Prairie area:</div>\n\n<div class="o9v6fnle cxmmr5t8 oygrvhab hcukyx3x c1et5uql" style="overflow-wrap: break-word\; margin: 0.5em 0px 0px\; font-family: &quot\;Segoe UI Historic&quot\;\, &quot\;Segoe UI&quot\;\, Helvetica\, Arial\, sans-serif\; color: rgb(5\, 5\, 5)\; font-size: 15px\;">St. Vincent de Paul in Prairie du Sac will be running a special clothing drive through Saturday\, October 2nd to support the Afghanistan refugees coming to Fort McCoy. We have been in contact with Team Rubicon as to what their biggest needs are at this time and we are asking for your help to fulfill those needs.</div>\n\n<div class="o9v6fnle cxmmr5t8 oygrvhab hcukyx3x c1et5uql" style="overflow-wrap: break-word\; margin: 0.5em 0px 0px\; font-family: &quot\;Segoe UI Historic&quot\;\, &quot\;Segoe UI&quot\;\, Helvetica\, Arial\, sans-serif\; color: rgb(5\, 5\, 5)\; font-size: 15px\;">While new\, culturally appropriate (unbranded) clothing items are preferred\, clean and gently used clothing is also acceptable. At this time they are in need of:<br />\n&bull\; All girl&rsquo\;s clothing size 4-14<br />\n&bull\; All sizes of shoes for children and adults<br />\n&bull\; All sizes of jackets\, sweaters\, and sweatshirts<br />\n&bull\; Men&rsquo\;s small or medium size pants<br />\n&bull\; All sizes of undergarments for children and adults (new items only)<br />\n&bull\; All sizes of socks for children and adults (new items only)</div>\n\n<div class="o9v6fnle cxmmr5t8 oygrvhab hcukyx3x c1et5uql" style="overflow-wrap: break-word\; margin: 0.5em 0px 0px\; font-family: &quot\;Segoe UI Historic&quot\;\, &quot\;Segoe UI&quot\;\, Helvetica\, Arial\, sans-serif\; color: rgb(5\, 5\, 5)\; font-size: 15px\;">If you are able to donate any of these new or gently used items\, we ask that you label your donation in a bag or box marked &ldquo\;To Fort McCoy&rdquo\; and drop it off in the store or at our warehouse located at 815 19th Street in Prairie du Sac. Again\, we will accept donations through Saturday\, October 2nd. The following week\, volunteers from St. Vincent&rsquo\;s will then coordinate a time to deliver the items to Fort McCoy. Thank you for your generosity!</div>\n\n<div class="o9v6fnle cxmmr5t8 oygrvhab hcukyx3x c1et5uql" style="overflow-wrap: break-word\; margin: 0.5em 0px 0px\; font-family: &quot\;Segoe UI Historic&quot\;\, &quot\;Segoe UI&quot\;\, Helvetica\, Arial\, sans-serif\; color: rgb(5\, 5\, 5)\; font-size: 15px\;">If you have any questions\, please contact Jarrod at (608) 643-8905 ext. 12.</div>\n
LOCATION:St. Vincent de Paul 815 19th Street\, Prairie du Sac
UID:e.1184.26891
SEQUENCE:3
DTSTAMP:20260421T214552Z
URL:http://members.saukprairie.com/events/details/clothing-drive-26891
END:VEVENT

END:VCALENDAR
