BEGIN:VCALENDAR
VERSION:2.0
PRODID:-//ChamberMaster//Event Calendar 2.0//EN
METHOD:PUBLISH
X-PUBLISHED-TTL:P3D
REFRESH-INTERVAL:P3D
CALSCALE:GREGORIAN
BEGIN:VEVENT
DTSTART:20190221T200000Z
DTEND:20190221T223000Z
X-MICROSOFT-CDO-ALLDAYEVENT:FALSE
SUMMARY:Coach/Leader Workshop
DESCRIPTION:Join MaryAnn Marx with True North Life Coaching\, as she discusses how a coaching culture helps to create engagement\, as well as a powerful recruiting tool.  If you are struggling with talent attraction\, retention or overall profitability and productivity\, this workshop is for you.
X-ALT-DESC;FMTTYPE=text/html:<span style="color:#1F497D\;"><span style="font-family:calibri\,sans-serif\;"><span style="font-size:11.0pt\;">Join MaryAnn Marx with True North Life Coaching\, as she discusses how a coaching culture helps to create engagement\, as well as a powerful recruiting tool.&nbsp\; If you are struggling with talent attraction\, retention or overall profitability and productivity\, this workshop is for you.&nbsp\; </span></span></span>
LOCATION:Compeer Financial 1430 North Ridge Drive Prairie du Sac\, WI 53578
UID:e.1184.21505
SEQUENCE:3
DTSTAMP:20260423T212834Z
URL:http://members.saukprairie.com/events/details/coach-leader-workshop-21505
END:VEVENT

END:VCALENDAR
