BEGIN:VCALENDAR
VERSION:2.0
PRODID:-//ChamberMaster//Event Calendar 2.0//EN
METHOD:PUBLISH
X-PUBLISHED-TTL:P3D
REFRESH-INTERVAL:P3D
CALSCALE:GREGORIAN
BEGIN:VEVENT
DTSTART;VALUE=DATE:20190622
DTEND;VALUE=DATE:20190623
TRANSP:TRANSPARENT
X-MICROSOFT-CDO-ALLDAYEVENT:TRUE
SUMMARY:Cocktail\, Wine\, and Food Pairings
DESCRIPTION:Enjoy a relaxing afternoon of wine and cocktails expertly paired by Wollersheim. We are always curating new cocktail\, wine and food pairings\, so be sure to look for new seasonal menus throughout the year. Seated tastings will be conducted in our historic Sugar Loaf room inside the winery building on various Saturdays. These tastings can fill up quickly\, so reserve your seats today!
X-ALT-DESC;FMTTYPE=text/html:<span style="color: rgb(29\, 33\, 41)\; font-family: Helvetica\, Arial\, sans-serif\; font-size: 14px\; white-space: pre-wrap\;">Enjoy a relaxing afternoon of wine and cocktails expertly paired by Wollersheim. We are always curating new cocktail\, wine and food pairings\, so be sure to look for new seasonal menus throughout the year. Seated tastings will be conducted in our historic Sugar Loaf room inside the winery building on various Saturdays. These tastings can fill up quickly\, so reserve your seats today! </span>
LOCATION:Wollesrheim Winery 7876 State Rd. 188 Prairie du Sac\, WI 53578
UID:e.1184.22533
SEQUENCE:3
DTSTAMP:20260423T154453Z
URL:http://members.saukprairie.com/events/details/cocktail-wine-and-food-pairings-06-22-2019-22533
END:VEVENT

END:VCALENDAR
