BEGIN:VCALENDAR
VERSION:2.0
PRODID:-//ChamberMaster//Event Calendar 2.0//EN
METHOD:PUBLISH
X-PUBLISHED-TTL:P3D
REFRESH-INTERVAL:P3D
CALSCALE:GREGORIAN
BEGIN:VEVENT
DTSTART:20220918T180000Z
DTEND:20220918T203000Z
X-MICROSOFT-CDO-ALLDAYEVENT:FALSE
SUMMARY:Code Blue for Democracy
DESCRIPTION:Come meet and support your Democratic candidates for local and statewide offices. Music by Tom Waselchuk-Doug Brown Guitar Duo will be from 1:00 till 2:00 pm. Candidates will speak from 2:00 to 3:15. JOHN NICHOLS will be speaking at 3:15. Free cake and Chocolate Shoppe ice cream while it lasts! Candidates in attendance: - Mark Pocan\, Congressional District 2 - Dave Considine\, Assembly District 81 - Theresa Valencia\, Assembly District 42 - Leah Spicer\, Assembly District 51 - Michael Leuth\, Assembly District 50 - Dianne Hesselbein\, Senate District 27 - Pat Skogen\, Senate District 17 - Paul Hefty\, Sauk County Sheriff - representative of Aaron Richardson\, State Treasurer - Sara Rodriguez\, Lt. Governor (3:30) The Democratic Party of Sauk County will also be in attendance\, giving out info and having sign up opportunities for being involved this election season.
X-ALT-DESC;FMTTYPE=text/html:Come meet and support your Democratic candidates for local and statewide offices. Music by Tom Waselchuk-Doug Brown Guitar Duo will be from 1:00 till 2:00 pm. Candidates will speak from 2:00 to 3:15. JOHN NICHOLS will be speaking at 3:15. Free cake and Chocolate Shoppe ice cream while it lasts! Candidates in attendance: - Mark Pocan\, Congressional District 2 - Dave Considine\, Assembly District 81 - Theresa Valencia\, Assembly District 42 - Leah Spicer\, Assembly District 51 - Michael Leuth\, Assembly District 50 - Dianne Hesselbein\, Senate District 27 - Pat Skogen\, Senate District 17 - Paul Hefty\, Sauk County Sheriff - representative of Aaron Richardson\, State Treasurer - Sara Rodriguez\, Lt. Governor (3:30) The Democratic Party of Sauk County will also be in attendance\, giving out info and having sign up opportunities for being involved this election season.
LOCATION:Witwen Park and Campground is located west of Prairie du Sac. Take County Road PF west from Hwy 12 for 7 miles. Turn left onto County Road E. In 1.4 miles\, Witwen Campground will be on the right. Parking will be available off road.
UID:e.1184.28710
SEQUENCE:3
DTSTAMP:20260421T061327Z
URL:http://members.saukprairie.com/events/details/code-blue-for-democracy-28710
END:VEVENT

END:VCALENDAR
