BEGIN:VCALENDAR
VERSION:2.0
PRODID:-//ChamberMaster//Event Calendar 2.0//EN
METHOD:PUBLISH
X-PUBLISHED-TTL:P3D
REFRESH-INTERVAL:P3D
CALSCALE:GREGORIAN
BEGIN:VEVENT
DTSTART:20240319T130000Z
DTEND:20240319T143000Z
X-MICROSOFT-CDO-ALLDAYEVENT:FALSE
SUMMARY:Coffee & Coaching: Do Less and Get More in 2024!
DESCRIPTION:Join members as we take a time to learn about various topics that will help grow our business while sharing in conversation over coffee. These sessions are from 8:00   9:30 am\, and members are encouraged to send as many staff as they would like to these training forums. They will be held at the Prairie Landing at Culver Community Park.\n\n\n\nTOPIC: Do Less and Get More in 2024   Reduce day to day swirl and sharpen your focus.\n\n\n\nMeet Your Coach:\n\nEric Feinendegen is an award winning and internationally recognized speaker\, trainer\, and executive coach. He is a two-time Finalist in the World Championship of Public Speaking\, TEDx speaker\, professional emcee\, and a certified coach\, speaker\, and trainer with the John C. Maxwell team. His clients range from solopreneurs to corporate CEO's. He is also the author of the best-selling book\, "The FEIN-er Things   A 52-week guide to living an Inspired Life."
X-ALT-DESC;FMTTYPE=text/html:Join members as we take a time to learn about various topics that will help grow our business while sharing in conversation over coffee. These sessions are from 8:00 &ndash\; 9:30 am\, and members are encouraged to send as many staff as they would like to these training forums. They will be held at the Prairie Landing at Culver Community Park.<br />\n<br />\n<strong>TOPIC:&nbsp\;Do Less and Get More in 2024 &ndash\; Reduce day to day swirl and sharpen your focus.</strong><br />\n<br />\n<strong>Meet Your Coach:</strong><br />\nEric Feinendegen is an award winning and internationally recognized speaker\, trainer\, and executive coach. He is a two-time Finalist in the World Championship of Public Speaking\, TEDx speaker\, professional emcee\, and a certified coach\, speaker\, and trainer with the John C. Maxwell team. His clients range from solopreneurs to corporate CEO&rsquo\;s. He is also the author of the best-selling book\, &ldquo\;The FEIN-er Things &ndash\; A 52-week guide to living an Inspired Life.&rdquo\;
LOCATION:Prairie Landing at the Culver Community Park
UID:e.1184.31413
SEQUENCE:3
DTSTAMP:20260420T003320Z
URL:http://members.saukprairie.com/events/details/coffee-coaching-do-less-and-get-more-in-2024-31413
END:VEVENT

END:VCALENDAR
