BEGIN:VCALENDAR
VERSION:2.0
PRODID:-//ChamberMaster//Event Calendar 2.0//EN
METHOD:PUBLISH
X-PUBLISHED-TTL:P3D
REFRESH-INTERVAL:P3D
CALSCALE:GREGORIAN
BEGIN:VEVENT
DTSTART:20240917T130000Z
DTEND:20240917T143000Z
X-MICROSOFT-CDO-ALLDAYEVENT:FALSE
SUMMARY:Coffee & Coaching: Providing Feedback and Guidance
DESCRIPTION:Join members as we take a time to learn about various topics that will help grow our business while sharing in conversation over coffee. These sessions are from 8:00   9:30 am\, and members are encouraged to send as many staff as they would like to these training forums. They will be held at the Prairie Landing at Culver Community Park.\n\n\n\nTOPIC: Providing Feedback and Guidance to family\, friends or employees.\n\n\n\nMeet Your Coach:\n\nEric Feinendegen is an award winning and internationally recognized speaker\, trainer\, and executive coach. He is a two-time Finalist in the World Championship of Public Speaking\, TEDx speaker\, professional emcee\, and a certified coach\, speaker\, and trainer with the John C. Maxwell team. His clients range from solopreneurs to corporate CEO's. He is also the author of the best-selling book\, "The FEIN-er Things   A 52-week guide to living an Inspired Life."
X-ALT-DESC;FMTTYPE=text/html:Join members as we take a time to learn about various topics that will help grow our business while sharing in conversation over coffee. These sessions are from 8:00 &ndash\; 9:30 am\, and members are encouraged to send as many staff as they would like to these training forums. They will be held at the Prairie Landing at Culver Community Park.<br />\n<br />\n<strong>TOPIC:&nbsp\;Providing Feedback and Guidance to family\, friends or employees.</strong><br />\n<br />\n<strong>Meet Your Coach:</strong><br />\nEric Feinendegen is an award winning and internationally recognized speaker\, trainer\, and executive coach. He is a two-time Finalist in the World Championship of Public Speaking\, TEDx speaker\, professional emcee\, and a certified coach\, speaker\, and trainer with the John C. Maxwell team. His clients range from solopreneurs to corporate CEO&rsquo\;s. He is also the author of the best-selling book\, &ldquo\;The FEIN-er Things &ndash\; A 52-week guide to living an Inspired Life.&rdquo\;
LOCATION:Prairie Landing at the Culver Community Park
UID:e.1184.31416
SEQUENCE:3
DTSTAMP:20260419T162335Z
URL:http://members.saukprairie.com/events/details/coffee-coaching-providing-feedback-and-guidance-31416
END:VEVENT

END:VCALENDAR
