BEGIN:VCALENDAR
VERSION:2.0
PRODID:-//ChamberMaster//Event Calendar 2.0//EN
METHOD:PUBLISH
X-PUBLISHED-TTL:P3D
REFRESH-INTERVAL:P3D
CALSCALE:GREGORIAN
BEGIN:VEVENT
DTSTART:20220813T140000Z
DTEND:20220813T160000Z
X-MICROSOFT-CDO-ALLDAYEVENT:FALSE
SUMMARY:Coffee & Coloring at River Arts
DESCRIPTION:Coffee & Coloring is back!\n\nWe're back! Join River Arts Inc once a month on Saturday mornings for great coffee and some stress-relieving coloring. Featuring John Joseph Coffee (Sauk City\, WI)\, coloring pages for all ages and difficulty levels\, gel pens\, colored pencils\, and markers\, this pressure-free environment is all about enjoying art in a relaxing way.\n\nChoose to color out on our river deck to enjoy the waterfront view\, or cozy up in the studio. Feel free to also bring your own project to work on! Carry-in food and coffee/tea are welcome!\n\nFree to participate (while supplies last)! No advance registration required. Deck seating is first come\, first served. Anyone under the age of 8 must be chaperoned at all times.\n\n\n\nhttps://www.riverartsinc.org/coffee-coloring/
X-ALT-DESC;FMTTYPE=text/html:<h2>Coffee &amp\; Coloring is back!</h2>\n\n<p>We&rsquo\;re back! Join River Arts Inc once a month on Saturday mornings for great coffee and some stress-relieving coloring. Featuring John Joseph Coffee (Sauk City\, WI)\, coloring pages for all ages and difficulty levels\, gel pens\, colored pencils\, and markers\, this pressure-free environment is all about enjoying art in a relaxing way.</p>\n\n<p>Choose to color out on our river deck to enjoy the waterfront view\, or cozy up in the studio. Feel free to also bring your own project to work on! Carry-in food and coffee/tea are welcome!</p>\n\n<p>Free to participate (while supplies last)! No advance registration required. Deck seating is first come\, first served. Anyone under the age of 8 must be chaperoned at all times.<br />\n<br />\nhttps://www.riverartsinc.org/coffee-coloring/</p>\n
LOCATION:590 Water Street\, Prairie du Sac\, WI 53578
UID:e.1184.28180
SEQUENCE:3
DTSTAMP:20260421T103540Z
URL:http://members.saukprairie.com/events/details/coffee-coloring-at-river-arts-28180
END:VEVENT

END:VCALENDAR
