BEGIN:VCALENDAR
VERSION:2.0
PRODID:-//ChamberMaster//Event Calendar 2.0//EN
METHOD:PUBLISH
X-PUBLISHED-TTL:P3D
REFRESH-INTERVAL:P3D
CALSCALE:GREGORIAN
BEGIN:VEVENT
DTSTART;VALUE=DATE:20240224
DTEND;VALUE=DATE:20240225
TRANSP:TRANSPARENT
X-MICROSOFT-CDO-ALLDAYEVENT:TRUE
SUMMARY:Coldest Night of the Year - Pathway Home
DESCRIPTION:The Coldest Night of the Year is a winterrific family-friendly fundraising walk in support of local charities serving people experiencing hurt\, hunger\, and homelessness.  Team up\, fundraise\, walk\, and take a moment to look closer...because it's cold out there.\n\n\n\nRegister to walk either 2k or 5k.  You can join a team\, start your own\, or walk where you are.  Fundraise:  you'll get lots of tools to help you reach your goal!\n\n\n\nDonate to our Pathway Home Team!\n\n\n\nTake a moment to look closer at this event...because it's cold out there.
X-ALT-DESC;FMTTYPE=text/html:The Coldest Night of the Year is a winterrific family-friendly fundraising walk in support of local charities serving people&nbsp\;experiencing hurt\, hunger\, and homelessness.&nbsp\; Team up\, fundraise\, walk\, and take a moment to look closer...because it&#39\;s cold out there.<br />\n<br />\nRegister to walk either 2k or 5k.&nbsp\; You can join a team\, start your own\, or walk where you are.&nbsp\; Fundraise:&nbsp\; you&#39\;ll get lots of tools to help you reach your goal!<br />\n<br />\nDonate to our Pathway Home Team!<br />\n<br />\nTake a moment to <strong><a href="https://cnoy.com/location/baraboo">look closer at this event</a></strong>...because it&#39\;s cold out there.
LOCATION:Pathway Home 124 2nd St. Baraboo\, WI 53913
UID:e.1184.31482
SEQUENCE:3
DTSTAMP:20260420T003434Z
URL:http://members.saukprairie.com/events/details/coldest-night-of-the-year-pathway-home-31482
END:VEVENT

END:VCALENDAR
