BEGIN:VCALENDAR
VERSION:2.0
PRODID:-//ChamberMaster//Event Calendar 2.0//EN
METHOD:PUBLISH
X-PUBLISHED-TTL:P3D
REFRESH-INTERVAL:P3D
CALSCALE:GREGORIAN
BEGIN:VEVENT
DTSTART:20190221T000000Z
DTEND:20190221T003000Z
X-MICROSOFT-CDO-ALLDAYEVENT:FALSE
SUMMARY:College Planning: Using the Summer Wisely
DESCRIPTION:This College Planning Workshop\, presented by College & Career Counselor\, Tiffany Kolb will teach parents and students grades 9-12 how to take advantage of your student's summer schedule and get a jump start on colllege plans! \n\n\n\nIn this FREE workshop\, you will learn:\n\n	What your student can be doing this summer to be a strong college applicant and mazimize scholarship opportunities.\n	What colleges are really looking for in extracurricular activities (Hint:"resume building" is not time well spent!)\n	How to have a balanced summer\, including work\, play and study
X-ALT-DESC;FMTTYPE=text/html:This College Planning Workshop\, presented by College &amp\; Career Counselor\, Tiffany Kolb will teach parents and students grades 9-12 how to take advantage of your student&#39\;s summer schedule and get a jump start on colllege plans!&nbsp\;<br />\n<br />\nIn this FREE workshop\, you will learn:\n<ul>\n	<li>What your student can be doing this summer to be a strong college applicant and mazimize scholarship opportunities.</li>\n	<li>What colleges are really looking for in extracurricular activities (Hint:&quot\;resume building&quot\; is not time well spent!)</li>\n	<li>How to have a balanced summer\, including work\, play and study</li>\n</ul>\n
LOCATION:Sauk Prairie High School Leahy Theater 105 9th St\, Prairie Du Sac\, WI 53578
UID:e.1184.21329
SEQUENCE:3
DTSTAMP:20260423T213651Z
URL:http://members.saukprairie.com/events/details/college-planning-using-the-summer-wisely-21329
END:VEVENT

END:VCALENDAR
