BEGIN:VCALENDAR
VERSION:2.0
PRODID:-//ChamberMaster//Event Calendar 2.0//EN
METHOD:PUBLISH
X-PUBLISHED-TTL:P3D
REFRESH-INTERVAL:P3D
CALSCALE:GREGORIAN
BEGIN:VEVENT
DTSTART:20181024T230000Z
DTEND:20181025T003000Z
X-MICROSOFT-CDO-ALLDAYEVENT:FALSE
SUMMARY:College Planning Workshop - FREE
DESCRIPTION:Join us for ths FREE College Workshop on Solving the College Admissions Puzzle!  Presented by College & Career Counselor\, Tiffany Kolb for students grades 9-12 AND their families.  \n\n\n\nThe college admission process can be complex and confusing.  Understanding the current expectations that colleges have for applicants is key!  In this workshop you will receive an overview of:\n\n\n	What colleges consider the most important qualities and experiences for high school applicants.\n	What a "best fit" school is and how to go about finding one.\n	An overview of the financial aid process that colleges use\, and basic strategies to help maximize your financial opportunities. \n\nCall 608-643-8386 to register for this FREE course.
X-ALT-DESC;FMTTYPE=text/html:<span style="font-size:12px">Join us for ths FREE College Workshop on Solving the College Admissions Puzzle!&nbsp\; Presented by College &amp\; Career Counselor\, Tiffany Kolb for students grades 9-12 AND their families.&nbsp\;&nbsp\;<br />\n<br />\nThe college admission process can be complex and confusing.&nbsp\; Understanding the current expectations that colleges have for applicants is key!&nbsp\; In this workshop you will receive an overview of:</span>\n\n<ul>\n	<li><span style="font-size:12px">What colleges consider the most important qualities and experiences for high school applicants.</span></li>\n	<li><span style="font-size:12px">What a &quot\;best fit&quot\; school is and how to go about finding one.</span></li>\n	<li><span style="font-size:12px">An overview of the financial aid process that colleges use\, and basic strategies to help maximize your financial opportunities.&nbsp\;</span></li>\n</ul>\n<span style="font-size:12px">Call 608-643-8386 to register for this FREE course.&nbsp\;</span>
LOCATION:Sauk Prairie High School Leahy Theater 105 9th St\, Prairie Du Sac\, WI 53578
UID:e.1184.21328
SEQUENCE:3
DTSTAMP:20260424T033650Z
URL:http://members.saukprairie.com/events/details/college-planning-workshop-free-21328
END:VEVENT

END:VCALENDAR
