BEGIN:VCALENDAR
VERSION:2.0
PRODID:-//ChamberMaster//Event Calendar 2.0//EN
METHOD:PUBLISH
X-PUBLISHED-TTL:P3D
REFRESH-INTERVAL:P3D
CALSCALE:GREGORIAN
BEGIN:VEVENT
DTSTART:20160606T233000Z
DTEND:20160607T004500Z
X-MICROSOFT-CDO-ALLDAYEVENT:FALSE
SUMMARY:Coloring For Calm
DESCRIPTION:Adults\, color away the stress! Enjoy fellowship while you color. We have plenty of coloring pages\, colored pencils and markers on hand or bring your own. Coloring promotes wellness and creativity. Get in on the latest craze that has swept the nation!
X-ALT-DESC;FMTTYPE=text/html:Adults\, color away the stress! Enjoy fellowship while you color. We have plenty of coloring pages\, colored pencils and markers on hand or bring your own. Coloring promotes wellness and creativity. Get in on the latest craze that has swept the nation!
LOCATION:Sauk City Library 515 Water St. Sauk City\, WI
UID:e.1184.8519
SEQUENCE:3
DTSTAMP:20260426T003518Z
URL:http://members.saukprairie.com/events/details/coloring-for-calm-06-06-2016-8519
END:VEVENT

END:VCALENDAR
