BEGIN:VCALENDAR
VERSION:2.0
PRODID:-//ChamberMaster//Event Calendar 2.0//EN
METHOD:PUBLISH
X-PUBLISHED-TTL:P3D
REFRESH-INTERVAL:P3D
CALSCALE:GREGORIAN
BEGIN:VEVENT
DTSTART:20160618T140000Z
DTEND:20160618T180000Z
X-MICROSOFT-CDO-ALLDAYEVENT:FALSE
SUMMARY:Columbia County Moo-Day Brunch
DESCRIPTION:The Columbia County Moo-Day Brunch is part of June Dairy Month celebrations in Wisconsin. The brunch which is held on an active dairy farm features a menu of Pizza Hut pizza\, grilled cheese\, yogurt\, cheese\, and Sassy Cow Creamery milk and ice cream sundaes. A wide variety of activities are available for all ages: horse-drawn wagon rides\, a petting zoo\, a tour of the farm including the new robotic milking system\, children's games\, a balloon artist\, music\, an antique tractor display\, a kids pedal pull\, a visit from Alice in Dairyland\, door prizes and drawings.
X-ALT-DESC;FMTTYPE=text/html:The Columbia County Moo-Day Brunch is part of June Dairy Month celebrations in Wisconsin. The brunch which is held on an active dairy farm features a menu of Pizza Hut pizza\, grilled cheese\, yogurt\, cheese\, and Sassy Cow Creamery milk and ice cream sundaes. A wide variety of activities are available for all ages: horse-drawn wagon rides\, a petting zoo\, a tour of the farm including the new robotic milking system\, children&#39\;s games\, a balloon artist\, music\, an antique tractor display\, a kids pedal pull\, a visit from Alice in Dairyland\, door prizes and drawings.
LOCATION:Miller's Fourth Generation Homestead N1484 O'Connor Rd. Lodi\, WI 53555
UID:e.1184.8502
SEQUENCE:3
DTSTAMP:20260426T003833Z
URL:http://members.saukprairie.com/events/details/columbia-county-moo-day-brunch-06-18-2016-8502
END:VEVENT

END:VCALENDAR
