BEGIN:VCALENDAR
VERSION:2.0
PRODID:-//ChamberMaster//Event Calendar 2.0//EN
METHOD:PUBLISH
X-PUBLISHED-TTL:P3D
REFRESH-INTERVAL:P3D
CALSCALE:GREGORIAN
BEGIN:VEVENT
DTSTART;VALUE=DATE:20230727
DTEND;VALUE=DATE:20230728
TRANSP:TRANSPARENT
X-MICROSOFT-CDO-ALLDAYEVENT:TRUE
SUMMARY:Command Center at the Riverfront Park Splash Pad
DESCRIPTION:It's going to be HOT!!!   \n\n\n\nCool off at the Splash Pad and enjoy lunch from Wyttenbach's Command Center Food Truck.\n\n\n\nBurgers\, Fries\, and Kid's Special: Hot Dog & Small Fries for $5.\n\nAnother great treat to cool you off is a Chocolate Chip Soft Serve Sandwich.\n\n\n\nLunch will be 11 am - 1 pm           \n\n\n\nHope to see you there!
X-ALT-DESC;FMTTYPE=text/html:It&#39\;s going to be HOT!!!&nbsp\; &nbsp\;<br />\n<br />\nCool off at the Splash Pad and enjoy lunch from Wyttenbach&#39\;s Command Center Food Truck.<br />\n<br />\nBurgers\, Fries\, and Kid&#39\;s Special: Hot Dog &amp\; Small Fries for $5.<br />\nAnother great treat to cool you off is a Chocolate Chip Soft Serve Sandwich.<br />\n<br />\nLunch will be 11 am - 1 pm&nbsp\;&nbsp\;&nbsp\;&nbsp\;&nbsp\;&nbsp\;&nbsp\;&nbsp\;&nbsp\; &nbsp\;<br />\n<br />\nHope to see you there!
LOCATION:Sauk City Riverfront Park
UID:e.1184.30916
SEQUENCE:3
DTSTAMP:20260420T102226Z
URL:http://members.saukprairie.com/events/details/command-center-at-the-riverfront-park-splash-pad-30916
END:VEVENT

END:VCALENDAR
