BEGIN:VCALENDAR
VERSION:2.0
PRODID:-//ChamberMaster//Event Calendar 2.0//EN
METHOD:PUBLISH
X-PUBLISHED-TTL:P3D
REFRESH-INTERVAL:P3D
CALSCALE:GREGORIAN
BEGIN:VEVENT
DTSTART:20230422T160000Z
DTEND:20230422T190000Z
X-MICROSOFT-CDO-ALLDAYEVENT:FALSE
SUMMARY:Command Center Food Truck 1st Outing for 2023
DESCRIPTION:Kirch's Adoption Fundraiser at River Hills Church - event is from 9 am - 4 pm\n\nCommand Center will serve 11 am - 2 pm\n\nBurgers\, French Fries and other sandwich choices
X-ALT-DESC;FMTTYPE=text/html:Kirch&#39\;s Adoption Fundraiser at River Hills Church - event is from 9 am - 4 pm<br />\nCommand Center will serve 11 am - 2 pm<br />\nBurgers\, French Fries and other sandwich choices
LOCATION:River Hills Church\, 111 Sycamore Street\, Sauk City
UID:e.1184.30720
SEQUENCE:3
DTSTAMP:20260420T144824Z
URL:http://members.saukprairie.com/events/details/command-center-food-truck-1st-outing-for-2023-30720
END:VEVENT

END:VCALENDAR
