BEGIN:VCALENDAR
VERSION:2.0
PRODID:-//ChamberMaster//Event Calendar 2.0//EN
METHOD:PUBLISH
X-PUBLISHED-TTL:P3D
REFRESH-INTERVAL:P3D
CALSCALE:GREGORIAN
BEGIN:VEVENT
DTSTART:20230907T160000Z
DTEND:20230907T180000Z
X-MICROSOFT-CDO-ALLDAYEVENT:FALSE
SUMMARY:Command Center Food Truck at MidState Equipment
DESCRIPTION:Truckin' Good Food served at Wyttenbach's Command Center Food Truck from 11 am-1pm.\n\n\n\nServing our signature burgers and fries and much more.  Mark your calendar for lunch on Thursday.
X-ALT-DESC;FMTTYPE=text/html:Truckin&#39\; Good Food served at Wyttenbach&#39\;s Command Center Food Truck from 11 am-1pm.<br />\n<br />\nServing our signature burgers and fries and much more.&nbsp\; Mark your calendar for lunch on Thursday.
LOCATION:Mid State Equipment parking lot @ the corner of highway 12 and PF in Prairie du Sac
UID:e.1184.31023
SEQUENCE:3
DTSTAMP:20260420T074150Z
URL:http://members.saukprairie.com/events/details/command-center-food-truck-at-midstate-equipment-31023
END:VEVENT

END:VCALENDAR
