BEGIN:VCALENDAR
VERSION:2.0
PRODID:-//ChamberMaster//Event Calendar 2.0//EN
METHOD:PUBLISH
X-PUBLISHED-TTL:P3D
REFRESH-INTERVAL:P3D
CALSCALE:GREGORIAN
BEGIN:VEVENT
DTSTART:20221008T210000Z
DTEND:20221009T020000Z
X-MICROSOFT-CDO-ALLDAYEVENT:FALSE
SUMMARY:Command Center Food Truck at Pakrtoberfest
DESCRIPTION:Celebrating the progress of the new Community Culver Park we will be serving our usual burgers and fries\, beef brisket sandwiches and new this year\, pork chops on a stick.\n\nCome and enjoy the food and fun.\n\nfollow us on facebook or Instagram:  Wyttenbach's Command Center Food Truck
X-ALT-DESC;FMTTYPE=text/html:Celebrating the progress of the new Community Culver Park we will be serving our usual burgers and fries\, beef brisket sandwiches and new this year\, pork chops on a stick.<br />\nCome and enjoy the food and fun.<br />\nfollow us on facebook or Instagram:&nbsp\; Wyttenbach&#39\;s Command Center Food Truck
LOCATION:Partoberfest\, Culver Community Park
UID:e.1184.28723
SEQUENCE:3
DTSTAMP:20260421T051202Z
URL:http://members.saukprairie.com/events/details/command-center-food-truck-at-pakrtoberfest-28723
END:VEVENT

END:VCALENDAR
