BEGIN:VCALENDAR
VERSION:2.0
PRODID:-//ChamberMaster//Event Calendar 2.0//EN
METHOD:PUBLISH
X-PUBLISHED-TTL:P3D
REFRESH-INTERVAL:P3D
CALSCALE:GREGORIAN
BEGIN:VEVENT
DTSTART:20241012T210000Z
DTEND:20241013T020000Z
X-MICROSOFT-CDO-ALLDAYEVENT:FALSE
SUMMARY:Command Center Food Truck at Parktoberfest!
DESCRIPTION:Join us for all the fund at the 4th annual Parktoberfest at Culver Community Park.\n\nWe'll be serving our juicy\, delicious ground chuck burgers\, fries\, hot dogs\, and pulled pork.\n\nBring the family and enjoy this opportunity for food\, fun and friendship.
X-ALT-DESC;FMTTYPE=text/html:Join us for all the fund at the 4th annual Parktoberfest at Culver Community Park.<br />\nWe&#39\;ll be serving our juicy\, delicious ground chuck burgers\, fries\, hot dogs\, and pulled pork.<br />\nBring the family and enjoy this opportunity for food\, fun and friendship.
LOCATION:Culver Community Park 340 21st Street Prairie du Sac\, WI 53578 Come and enjoy food trucks\, beer garden\, kids games\, lives Music and a meat rafflem
UID:e.1184.33471
SEQUENCE:3
DTSTAMP:20260419T144304Z
URL:http://members.saukprairie.com/events/details/command-center-food-truck-at-parktoberfest-33471
END:VEVENT

END:VCALENDAR
