BEGIN:VCALENDAR
VERSION:2.0
PRODID:-//ChamberMaster//Event Calendar 2.0//EN
METHOD:PUBLISH
X-PUBLISHED-TTL:P3D
REFRESH-INTERVAL:P3D
CALSCALE:GREGORIAN
BEGIN:VEVENT
DTSTART;VALUE=DATE:20220618
DTEND;VALUE=DATE:20220619
TRANSP:TRANSPARENT
X-MICROSOFT-CDO-ALLDAYEVENT:TRUE
SUMMARY:Command Center Food Truck at Summer Solstice
DESCRIPTION:Command Center Food Truck will be serving 3:30 - 8 pm at SUMMER SOLSTICE
X-ALT-DESC;FMTTYPE=text/html:<span style="font-family:comic sans ms"><span style="font-size:14px">Command Center Food Truck will be serving 3:30 - 8 pm at SUMMER SOLSTICE</span></span>
LOCATION:Jaycee Park\, Sauk City
UID:e.1184.27978
SEQUENCE:3
DTSTAMP:20260421T120311Z
URL:http://members.saukprairie.com/events/details/command-center-food-truck-at-summer-solstice-27978
END:VEVENT

END:VCALENDAR
