BEGIN:VCALENDAR
VERSION:2.0
PRODID:-//ChamberMaster//Event Calendar 2.0//EN
METHOD:PUBLISH
X-PUBLISHED-TTL:P3D
REFRESH-INTERVAL:P3D
CALSCALE:GREGORIAN
BEGIN:VEVENT
DTSTART;VALUE=DATE:20220613
DTEND;VALUE=DATE:20220615
TRANSP:TRANSPARENT
X-MICROSOFT-CDO-ALLDAYEVENT:TRUE
SUMMARY:Command Center Food Truck @ June Tunes
DESCRIPTION:June Tunes:  serving burgers\, fries\, brisket sandwiches\, baby back ribs and frozen malts
X-ALT-DESC;FMTTYPE=text/html:<span style="font-family:comic sans ms"><span style="font-size:14px">June Tunes:&nbsp\; serving burgers\, fries\, brisket sandwiches\, baby back ribs and frozen malts</span></span>
LOCATION:Meyer Oak Park\, Sauk City
UID:e.1184.27977
SEQUENCE:3
DTSTAMP:20260421T120530Z
URL:http://members.saukprairie.com/events/details/command-center-food-truck-june-tunes-27977
END:VEVENT

END:VCALENDAR
