BEGIN:VCALENDAR
VERSION:2.0
PRODID:-//ChamberMaster//Event Calendar 2.0//EN
METHOD:PUBLISH
X-PUBLISHED-TTL:P3D
REFRESH-INTERVAL:P3D
CALSCALE:GREGORIAN
BEGIN:VEVENT
DTSTART:20240817T133000Z
DTEND:20240817T150000Z
X-MICROSOFT-CDO-ALLDAYEVENT:FALSE
SUMMARY:Command Center Food Truck serving breakfast at Bagpipes in the Glen
DESCRIPTION:Breakfast in the Glen\, Saturday Morning\, August 17th along with Bagpipes in the Glen festivities.\n\nThe Command Center Food Truck will offer two entrees:  Pancakes & Sausage\, or Biscuits & Gravy @$10 a plate.\n\n\n\nCome early and enjoy the day. This is a fundraiser for the Glen.
X-ALT-DESC;FMTTYPE=text/html:Breakfast in the Glen\, Saturday Morning\, August 17th along with Bagpipes in the Glen festivities.<br />\nThe Command Center Food Truck will offer two entrees:&nbsp\; Pancakes &amp\; Sausage\, or Biscuits &amp\; Gravy @$10 a plate.<br />\n<br />\nCome early and enjoy the day. This is a fundraiser for the Glen.
LOCATION:Durwood's Glen
UID:e.1184.32868
SEQUENCE:3
DTSTAMP:20260419T165027Z
URL:http://members.saukprairie.com/events/details/command-center-food-truck-serving-breakfast-at-bagpipes-in-the-glen-32868
END:VEVENT

END:VCALENDAR
