BEGIN:VCALENDAR
VERSION:2.0
PRODID:-//ChamberMaster//Event Calendar 2.0//EN
METHOD:PUBLISH
X-PUBLISHED-TTL:P3D
REFRESH-INTERVAL:P3D
CALSCALE:GREGORIAN
BEGIN:VEVENT
DTSTART:20200212T190000Z
DTEND:20200212T200000Z
X-MICROSOFT-CDO-ALLDAYEVENT:FALSE
SUMMARY:Community Bingo
DESCRIPTION:Community Bingo - Cost $3
X-ALT-DESC;FMTTYPE=text/html:Community Bingo - Cost $3
LOCATION:Pine Glen Senior Apartments
UID:e.1184.24010
SEQUENCE:3
DTSTAMP:20260423T041202Z
URL:http://members.saukprairie.com/events/details/community-bingo-02-12-2020-24010
END:VEVENT

END:VCALENDAR
