BEGIN:VCALENDAR
VERSION:2.0
PRODID:-//ChamberMaster//Event Calendar 2.0//EN
METHOD:PUBLISH
X-PUBLISHED-TTL:P3D
REFRESH-INTERVAL:P3D
CALSCALE:GREGORIAN
BEGIN:VEVENT
DTSTART:20190213T190000Z
DTEND:20190213T200000Z
X-MICROSOFT-CDO-ALLDAYEVENT:FALSE
SUMMARY:Community Bingo
DESCRIPTION:The second Wednesday of every month. Cost $3.00. All money collected is paid out in prize money.
X-ALT-DESC;FMTTYPE=text/html:The second Wednesday of every month. Cost $3.00. All money collected is paid out in prize money.
LOCATION:Pine Glen Senior Apartments 930 Prairie Street Prairie Du Sac\, WI 53578
UID:e.1184.22013
SEQUENCE:3
DTSTAMP:20260423T225711Z
URL:http://members.saukprairie.com/events/details/community-bingo-22013
END:VEVENT

END:VCALENDAR
