BEGIN:VCALENDAR
VERSION:2.0
PRODID:-//ChamberMaster//Event Calendar 2.0//EN
METHOD:PUBLISH
X-PUBLISHED-TTL:P3D
REFRESH-INTERVAL:P3D
CALSCALE:GREGORIAN
BEGIN:VEVENT
DTSTART:20211023T160000Z
DTEND:20211023T210000Z
X-MICROSOFT-CDO-ALLDAYEVENT:FALSE
SUMMARY:Community Celebration Day
DESCRIPTION:Community Celebration Day\n\nTogether we are better\n\n\n\nCelebrate with your local first responders\n\n	WI National Guard\n	Baraboo Police Department\n	Baraboo Fire EMS\n	Baraboo Sherriff's Department\n\nFood Trucks\n\nStatic Displays (Army Trucks)\n\nRockwall\n\nObstacle Course\n\nFootball Toss\n\nBasketball Toss\n\nFirst Responders with Vehicles
X-ALT-DESC;FMTTYPE=text/html:Community Celebration Day<br />\nTogether we are better<br />\n<br />\nCelebrate with your local first responders\n<ul>\n	<li>WI National Guard</li>\n	<li>Baraboo Police Department</li>\n	<li>Baraboo Fire EMS</li>\n	<li>Baraboo Sherriff&#39\;s Department</li>\n</ul>\nFood Trucks<br />\nStatic Displays (Army Trucks)<br />\nRockwall<br />\nObstacle Course<br />\nFootball Toss<br />\nBasketball Toss<br />\nFirst Responders with Vehicles
LOCATION:Baraboo Armory 999 South Blvd. Baraboo\, WI 53913
UID:e.1184.26907
SEQUENCE:3
DTSTAMP:20260421T214543Z
URL:http://members.saukprairie.com/events/details/community-celebration-day-26907
END:VEVENT

END:VCALENDAR
