BEGIN:VCALENDAR
VERSION:2.0
PRODID:-//ChamberMaster//Event Calendar 2.0//EN
METHOD:PUBLISH
X-PUBLISHED-TTL:P3D
REFRESH-INTERVAL:P3D
CALSCALE:GREGORIAN
BEGIN:VEVENT
DTSTART:20161204T220000Z
DTEND:20161205T010000Z
X-MICROSOFT-CDO-ALLDAYEVENT:FALSE
SUMMARY:Community Choir Christmas Cantata
DESCRIPTION:COMMUNITY CHRISTMAS CANTATA\n\n\n\nRAISING FUNDS FOR SALVATION ARMY\n\n\n\n"From the heart of God\, love overflowed to earth when holy love came down\; a child was born in Bethlehem." On Sunday December 4th\, 2016 at 4:00 PM\, "The Heart of Christmas" a cantata composed by Pepper Choplin\, will be presented at the River Arts Center/SP High School as a way for our community to share the beautiful story of Christmas and raise funds for the local Salvation Army.  Dennis Kahn will direct the 50 voice choir of Sauk Prairie community members.  There are no tickets or entry fees but the bell ringers and red buckets will be at the doors to take donations. \n\n\n\nSponsored by Black Hawk-Bethlehem UMC
X-ALT-DESC;FMTTYPE=text/html:COMMUNITY CHRISTMAS CANTATA<br />\n<br />\nRAISING FUNDS FOR SALVATION ARMY<br />\n<br />\n&ldquo\;From the heart of God\, love overflowed to earth when holy love came down\; a child was born in Bethlehem.&rdquo\; On Sunday December 4<sup>th</sup>\, 2016 at 4:00 PM\, &ldquo\;The Heart of Christmas&rdquo\; a cantata composed by Pepper Choplin\, will be presented at the River Arts Center/SP High School as a way for our community to share the beautiful story of Christmas and raise funds for the local Salvation Army.&nbsp\; Dennis Kahn will direct the 50 voice choir of Sauk Prairie community members.&nbsp\; There are no tickets or entry fees but the bell ringers and red buckets will be at the doors to take donations.&nbsp\;<br />\n<br />\nSponsored by Black Hawk-Bethlehem UMC<br />\n&nbsp\;
LOCATION:River Arts Center 105 9th Street Prairie du Sac\, WI 53578
UID:e.1184.9427
SEQUENCE:3
DTSTAMP:20260425T141942Z
URL:http://members.saukprairie.com/events/details/community-choir-christmas-cantata-9427
END:VEVENT

END:VCALENDAR
