BEGIN:VCALENDAR
VERSION:2.0
PRODID:-//ChamberMaster//Event Calendar 2.0//EN
METHOD:PUBLISH
X-PUBLISHED-TTL:P3D
REFRESH-INTERVAL:P3D
CALSCALE:GREGORIAN
BEGIN:VEVENT
DTSTART:20241003T133000Z
DTEND:20241003T163000Z
X-MICROSOFT-CDO-ALLDAYEVENT:FALSE
SUMMARY:Community Health Breakfast and Discussion
DESCRIPTION:Sauk County Community Health Assessment results are in!\n\n\n\nArea residents want to focus on housing\, mental health\, and substance use. Come learn about current efforts and share your thoughts. There will be a FREE full breakfast at this event.\n\n\n\nEvent sponsored by Public Health Sauk County\, Reedsburg Area Medical Center\, SSM-Health St. Clare-Baraboo\, Sauk Prairie Healthcare\, and the Ho-Chunk National Department of Health.
X-ALT-DESC;FMTTYPE=text/html:Sauk County Community Health Assessment results are in!<br />\n<br />\nArea residents want to focus on housing\, mental health\, and substance use. Come learn about current efforts and share your thoughts. There will be a FREE full breakfast at this event.<br />\n<br />\nEvent sponsored by Public Health Sauk County\, Reedsburg Area Medical Center\, SSM-Health St. Clare-Baraboo\, Sauk Prairie Healthcare\, and the Ho-Chunk National Department of Health.
LOCATION:Ho-Chunk Casino
UID:e.1184.33055
SEQUENCE:3
DTSTAMP:20260419T160532Z
URL:http://members.saukprairie.com/events/details/community-health-breakfast-and-discussion-33055
END:VEVENT

END:VCALENDAR
