BEGIN:VCALENDAR
VERSION:2.0
PRODID:-//ChamberMaster//Event Calendar 2.0//EN
METHOD:PUBLISH
X-PUBLISHED-TTL:P3D
REFRESH-INTERVAL:P3D
CALSCALE:GREGORIAN
BEGIN:VEVENT
DTSTART:20211013T160000Z
DTEND:20211013T173000Z
X-MICROSOFT-CDO-ALLDAYEVENT:FALSE
SUMMARY:Community Health Presentation
DESCRIPTION:How can our communities become healthier places to live\, learn\, work\, and play?\n\n \n\nJoin us for a look at the long-term health of Sauk County and help us focus on what's important to improve community health. \n\n \n\nWe'll discuss the results of our 2021 Sauk County Community Health Assessment and ask for your help to prioritize what needs improvement. Together\, we'll decide to focus our work on specific health factors\, such as: health behaviors (like substance use or healthy weight)\, access to health services (such as dental and mental health care)\, and social and economic factors (like living wages\, affordable housing\, social connection\, and discrimination).  \n\n \n\nYour voice is important to us! \n\n \n\nWednesday\, October 13\, 2021\n\n11 am   12:30 pm\n\nOn Zoom: www.bit.ly/Sauk21 \n\nBy phone: (312) 626-6799\n\nMeeting ID: 873 5161 6123\n\nPasscode: 529178 \n\n \n\nA recording will be available for those who cannot attend. \n\n \n\nThis event is brought to you by the Sauk County Data Council\, comprised of Sauk County Public Health\, Reedsburg Area Medical Center\, Sauk Prairie Healthcare\, SSM Health\, the Ho-Chunk Nation Department of Health\, municipal governments\, non-profit agencies\, schools\, and community partners like you. \n\n \n\nQuestions or concerns? Please contact Sara Jesse\, Sauk County Public Health\, at Sara.Jesse@saukcountywi.gov or (608) 355-4308.
X-ALT-DESC;FMTTYPE=text/html:<span style="font-size:18px\;"><strong>How can our communities become healthier places to live\, learn\, work\, and play?</strong></span><br />\n&nbsp\;<br />\nJoin us for a look at the long-term health of Sauk County and help us focus on what&rsquo\;s important to improve community health.&nbsp\;<br />\n&nbsp\;<br />\nWe&rsquo\;ll discuss the results of our 2021 Sauk County Community Health Assessment and ask for your help to prioritize what needs improvement. Together\, we&rsquo\;ll decide to focus our work on specific health factors\, such as: health behaviors (like substance use or healthy weight)\, access to health services (such as dental and mental health care)\, and social and economic factors (like living wages\, affordable housing\, social connection\, and discrimination).&nbsp\;&nbsp\;<br />\n&nbsp\;<br />\nYour voice is important to us!&nbsp\;<br />\n&nbsp\;<br />\nWednesday\, October 13\, 2021<br />\n11 am &ndash\; 12:30 pm<br />\nOn Zoom: <strong><a href="http://www.bit.ly/Sauk21">www.bit.ly/Sauk21&nbsp\;</a></strong><br />\nBy phone: (312) 626-6799<br />\nMeeting ID: 873 5161 6123<br />\nPasscode: 529178&nbsp\;<br />\n&nbsp\;<br />\nA recording will be available for those who cannot attend.&nbsp\;<br />\n&nbsp\;<br />\nThis event is brought to you by the Sauk County Data Council\, comprised of Sauk County Public Health\, Reedsburg Area Medical Center\, Sauk Prairie Healthcare\, SSM Health\, the Ho-Chunk Nation Department of Health\, municipal governments\, non-profit agencies\, schools\, and community partners like you.&nbsp\;<br />\n&nbsp\;<br />\nQuestions or concerns? Please contact Sara Jesse\, Sauk County Public Health\, at Sara.Jesse@saukcountywi.gov or (608) 355-4308.
LOCATION:
UID:e.1184.26899
SEQUENCE:3
DTSTAMP:20260421T214552Z
URL:http://members.saukprairie.com/events/details/community-health-presentation-26899
END:VEVENT

END:VCALENDAR
