BEGIN:VCALENDAR
VERSION:2.0
PRODID:-//ChamberMaster//Event Calendar 2.0//EN
METHOD:PUBLISH
X-PUBLISHED-TTL:P3D
REFRESH-INTERVAL:P3D
CALSCALE:GREGORIAN
BEGIN:VEVENT
DTSTART:20241015T223000Z
DTEND:20241016T000000Z
X-MICROSOFT-CDO-ALLDAYEVENT:FALSE
SUMMARY:Community Health Virtual Discussion
DESCRIPTION:Sauk County Community Health Assessment results are in!\n\n\n\nArea residents want to focus on housing\, mental health\, and substance use. Join us to learn about current efforts and share your thoughts. Event sponsored by Public Health Sauk County\, Reedsburg Area Medical Center\, SSM-Health St. Clare-Baraboo\, Sauk Prairie Healthcare\, and the Ho-Chunk National Department of Health.
X-ALT-DESC;FMTTYPE=text/html:Sauk County Community Health Assessment results are in!<br />\n<br />\nArea residents want to focus on housing\, mental health\, and substance use. Join us to learn about current efforts and share your thoughts. Event sponsored by Public Health Sauk County\, Reedsburg Area Medical Center\, SSM-Health St. Clare-Baraboo\, Sauk Prairie Healthcare\, and the Ho-Chunk National Department of Health.
LOCATION:Virtual
UID:e.1184.33056
SEQUENCE:3
DTSTAMP:20260419T143834Z
URL:http://members.saukprairie.com/events/details/community-health-virtual-discussion-33056
END:VEVENT

END:VCALENDAR
