BEGIN:VCALENDAR
VERSION:2.0
PRODID:-//ChamberMaster//Event Calendar 2.0//EN
METHOD:PUBLISH
X-PUBLISHED-TTL:P3D
REFRESH-INTERVAL:P3D
CALSCALE:GREGORIAN
BEGIN:VEVENT
DTSTART:20180325T210000Z
DTEND:20180325T230000Z
X-MICROSOFT-CDO-ALLDAYEVENT:FALSE
SUMMARY:Community Meal
DESCRIPTION:All are welcome to the Community Meal at Concordia United Methodist Church on the 2nd and 4th Sundays of the month.  Community spirit and fellowship for all ages and people.  There is no charge\, a free will offering is accepted.
X-ALT-DESC;FMTTYPE=text/html:All are welcome to the Community Meal at Concordia United Methodist Church on the 2nd and 4th Sundays of the month.&nbsp\; Community spirit and fellowship for all ages and people.&nbsp\; There is no charge\, a free will offering is accepted.&nbsp\;&nbsp\;
LOCATION:Concordia United Methodist Church 585 5th Street Prairie du Sac\, WI
UID:e.1184.16740
SEQUENCE:3
DTSTAMP:20260424T161524Z
URL:http://members.saukprairie.com/events/details/community-meal-16740
END:VEVENT

END:VCALENDAR
