BEGIN:VCALENDAR
VERSION:2.0
PRODID:-//ChamberMaster//Event Calendar 2.0//EN
METHOD:PUBLISH
X-PUBLISHED-TTL:P3D
REFRESH-INTERVAL:P3D
CALSCALE:GREGORIAN
BEGIN:VEVENT
DTSTART:20211209T003000Z
DTEND:20211209T013000Z
X-MICROSOFT-CDO-ALLDAYEVENT:FALSE
SUMMARY:Community Read Discussion
DESCRIPTION:Sponsored by the Sauk Prairie Social Justice and Equity Initiative\, pick up a free copy of Stamped: Racism\, Antiracism and You by Jason Reynolds and Ibram X. Kendi at one of the Sauk Prairie area libraries.\n\nRead the book and join the community discussion at the library.\n\nPlease use the following survey link to sign up for one of the one-hour\, small- group book discussion before November 23rd: https://uwmadison.co1.qualtrics.com/jfe/form/SV_bKMnUdl3TBTgwVU.\n\nMasks are required to attend.
X-ALT-DESC;FMTTYPE=text/html:Sponsored by the Sauk Prairie Social Justice and Equity Initiative\, pick up a free copy of <em>Stamped: Racism\, Antiracism and You</em> by Jason Reynolds and Ibram X. Kendi at one of the Sauk Prairie area libraries.<br />\nRead the book and join the community discussion at the library.<br />\nPlease use the following survey link to sign up for one of the one-hour\, small- group book discussion before November 23rd: <a href="https://uwmadison.co1.qualtrics.com/jfe/form/SV_bKMnUdl3TBTgwVU">https://uwmadison.co1.qualtrics.com/jfe/form/SV_bKMnUdl3TBTgwVU</a>.<br />\nMasks are required to attend.
LOCATION:615 Phillips Blvd. Sauk City\, WI 53583
UID:e.1184.26923
SEQUENCE:3
DTSTAMP:20260421T202355Z
URL:http://members.saukprairie.com/events/details/community-read-discussion-26923
END:VEVENT

END:VCALENDAR
