BEGIN:VCALENDAR
VERSION:2.0
PRODID:-//ChamberMaster//Event Calendar 2.0//EN
METHOD:PUBLISH
X-PUBLISHED-TTL:P3D
REFRESH-INTERVAL:P3D
CALSCALE:GREGORIAN
BEGIN:VEVENT
DTSTART:20190710T211500Z
DTEND:20190710T214500Z
X-MICROSOFT-CDO-ALLDAYEVENT:FALSE
SUMMARY:Community Storytime
DESCRIPTION:Singing librarians from the Ruth Culver Community Library are traveling to 6:8 to share stories\, music and fun! Fun will begin at 4:15pm and everyone is invited to stay for a community meal at 5pm. All are welcome! Contact Beth at 643-8318 with questions.
X-ALT-DESC;FMTTYPE=text/html:Singing librarians from the Ruth Culver Community Library are traveling to 6:8 to share stories\, music and fun! Fun will begin at 4:15pm and everyone is invited to stay for a community meal at 5pm. All are welcome! Contact Beth at 643-8318 with questions.
LOCATION:6:8 821 Industry Road\, Sauk City
UID:e.1184.22583
SEQUENCE:3
DTSTAMP:20260423T142131Z
URL:http://members.saukprairie.com/events/details/community-storytime-22583
END:VEVENT

END:VCALENDAR
